BEGIN:VCALENDAR
VERSION:2.0
PRODID:-//Democratic Volunteer Center - ECPv6.15.17.1//NONSGML v1.0//EN
CALSCALE:GREGORIAN
METHOD:PUBLISH
X-ORIGINAL-URL:https://demvolctr.org
X-WR-CALDESC:Events for Democratic Volunteer Center
REFRESH-INTERVAL;VALUE=DURATION:PT1H
X-Robots-Tag:noindex
X-PUBLISHED-TTL:PT1H
BEGIN:VTIMEZONE
TZID:America/Los_Angeles
BEGIN:DAYLIGHT
TZOFFSETFROM:-0800
TZOFFSETTO:-0700
TZNAME:PDT
DTSTART:20220313T100000
END:DAYLIGHT
BEGIN:STANDARD
TZOFFSETFROM:-0700
TZOFFSETTO:-0800
TZNAME:PST
DTSTART:20221106T090000
END:STANDARD
BEGIN:DAYLIGHT
TZOFFSETFROM:-0800
TZOFFSETTO:-0700
TZNAME:PDT
DTSTART:20230312T100000
END:DAYLIGHT
BEGIN:STANDARD
TZOFFSETFROM:-0700
TZOFFSETTO:-0800
TZNAME:PST
DTSTART:20231105T090000
END:STANDARD
BEGIN:DAYLIGHT
TZOFFSETFROM:-0800
TZOFFSETTO:-0700
TZNAME:PDT
DTSTART:20240310T100000
END:DAYLIGHT
BEGIN:STANDARD
TZOFFSETFROM:-0700
TZOFFSETTO:-0800
TZNAME:PST
DTSTART:20241103T090000
END:STANDARD
END:VTIMEZONE
BEGIN:VEVENT
DTSTART;TZID=America/Los_Angeles:20230607T130000
DTEND;TZID=America/Los_Angeles:20230607T150000
DTSTAMP:20260424T093402
CREATED:20230530T030532Z
LAST-MODIFIED:20230530T030532Z
UID:10003085-1686142800-1686150000@demvolctr.org
SUMMARY:FT6 phone bank to OH
DESCRIPTION:Join Field Team 6 volunteers to call likely Democratic voters in Ohio to get them registered to vote. Progressive populist Senator Sherrod Brown is in a toss-up race. We need to preserve the slim Democratic majority in the Senate\, and this seat is crucial. No experience necessary—training and support are provided.
URL:https://demvolctr.org/event/ft6-phone-bank-to-oh/
LOCATION:Online
CATEGORIES:Outside Event,Phone Bank
END:VEVENT
BEGIN:VEVENT
DTSTART;TZID=America/Los_Angeles:20230607T160000
DTEND;TZID=America/Los_Angeles:20230607T180000
DTSTAMP:20260424T093402
CREATED:20230530T025547Z
LAST-MODIFIED:20230707T141324Z
UID:10003052-1686153600-1686160800@demvolctr.org
SUMMARY:CA Dems texting to Kings County
DESCRIPTION:Text young voters in or around Kings County with the California Democratic Party. Texting is fast\, easy\, and fun!
URL:https://demvolctr.org/event/ca-dems-texting-to-kings-county/
LOCATION:Online
CATEGORIES:Outside Event,Text Banking
ORGANIZER;CN="California Democratic Party":MAILTO:info@cadem.org
END:VEVENT
BEGIN:VEVENT
DTSTART;TZID=America/Los_Angeles:20230607T183000
DTEND;TZID=America/Los_Angeles:20230607T203000
DTSTAMP:20260424T093402
CREATED:20230529T223134Z
LAST-MODIFIED:20230529T223911Z
UID:10002951-1686162600-1686169800@demvolctr.org
SUMMARY:SD Peninsula: meet Danica Roem
DESCRIPTION:Join Sister District CA Peninsula for their annual Sunset\, Martinis and Silent Auction. Danica Roem is flying out from Virginia just for our event! \n\n\n\nDanica is in a must-win race in order for Democrats to retain control of the Virginia State Senate. We must protect and expand our razor-thin Dem majority in the state Senate to prevent complete GOP control of Virginia and stop their anti-climate agenda\, relentless anti-LGBTQ+ legislation\, and assault on reproductive freedom. \n\n\n\nSpace at the event is limited to 70 people. Suggested donation: $50/$20pp for those under 30. Bring a friend for free! We are grateful for all donations large and small! Every donation will be matched up to $2\,000! Payment via ActBlue here prior to the event is preferred. Donations by check can be made – instructions will be provided to RSVP’s.
URL:https://demvolctr.org/event/sd-peninsula-meet-danica-roem/
LOCATION:Private location\, See description to RSVP for address in\, CA
CATEGORIES:Fundraiser,Outside Event
END:VEVENT
END:VCALENDAR