BEGIN:VCALENDAR
VERSION:2.0
PRODID:-//Democratic Volunteer Center - ECPv6.15.17.1//NONSGML v1.0//EN
CALSCALE:GREGORIAN
METHOD:PUBLISH
X-ORIGINAL-URL:https://demvolctr.org
X-WR-CALDESC:Events for Democratic Volunteer Center
REFRESH-INTERVAL;VALUE=DURATION:PT1H
X-Robots-Tag:noindex
X-PUBLISHED-TTL:PT1H
BEGIN:VTIMEZONE
TZID:America/Los_Angeles
BEGIN:DAYLIGHT
TZOFFSETFROM:-0800
TZOFFSETTO:-0700
TZNAME:PDT
DTSTART:20220313T100000
END:DAYLIGHT
BEGIN:STANDARD
TZOFFSETFROM:-0700
TZOFFSETTO:-0800
TZNAME:PST
DTSTART:20221106T090000
END:STANDARD
BEGIN:DAYLIGHT
TZOFFSETFROM:-0800
TZOFFSETTO:-0700
TZNAME:PDT
DTSTART:20230312T100000
END:DAYLIGHT
BEGIN:STANDARD
TZOFFSETFROM:-0700
TZOFFSETTO:-0800
TZNAME:PST
DTSTART:20231105T090000
END:STANDARD
BEGIN:DAYLIGHT
TZOFFSETFROM:-0800
TZOFFSETTO:-0700
TZNAME:PDT
DTSTART:20240310T100000
END:DAYLIGHT
BEGIN:STANDARD
TZOFFSETFROM:-0700
TZOFFSETTO:-0800
TZNAME:PST
DTSTART:20241103T090000
END:STANDARD
END:VTIMEZONE
BEGIN:VEVENT
DTSTART;TZID=America/Los_Angeles:20230611T143000
DTEND;TZID=America/Los_Angeles:20230611T163000
DTSTAMP:20260422T145923
CREATED:20230530T025848Z
LAST-MODIFIED:20230530T025849Z
UID:10003077-1686493800-1686501000@demvolctr.org
SUMMARY:FT6 phone bank to CA-27
DESCRIPTION:Join Field Team 6 volunteers to make calls to help unseat far-right Trump supporter Mike Garcia in CA-27. Call likely Democratic voters to get them registered to vote or sign up to vote by mail if they are already registered. California will play a major role in taking back the House of Representatives next year. No experience necessary—training and support are provided.
URL:https://demvolctr.org/event/ft6-phone-bank-to-ca-27/2023-06-11/
LOCATION:Online
CATEGORIES:Outside Event,Phone Bank
END:VEVENT
END:VCALENDAR