BEGIN:VCALENDAR
VERSION:2.0
PRODID:-//Democratic Volunteer Center - ECPv6.15.17.1//NONSGML v1.0//EN
CALSCALE:GREGORIAN
METHOD:PUBLISH
X-ORIGINAL-URL:https://demvolctr.org
X-WR-CALDESC:Events for Democratic Volunteer Center
REFRESH-INTERVAL;VALUE=DURATION:PT1H
X-Robots-Tag:noindex
X-PUBLISHED-TTL:PT1H
BEGIN:VTIMEZONE
TZID:America/Los_Angeles
BEGIN:DAYLIGHT
TZOFFSETFROM:-0800
TZOFFSETTO:-0700
TZNAME:PDT
DTSTART:20220313T100000
END:DAYLIGHT
BEGIN:STANDARD
TZOFFSETFROM:-0700
TZOFFSETTO:-0800
TZNAME:PST
DTSTART:20221106T090000
END:STANDARD
BEGIN:DAYLIGHT
TZOFFSETFROM:-0800
TZOFFSETTO:-0700
TZNAME:PDT
DTSTART:20230312T100000
END:DAYLIGHT
BEGIN:STANDARD
TZOFFSETFROM:-0700
TZOFFSETTO:-0800
TZNAME:PST
DTSTART:20231105T090000
END:STANDARD
BEGIN:DAYLIGHT
TZOFFSETFROM:-0800
TZOFFSETTO:-0700
TZNAME:PDT
DTSTART:20240310T100000
END:DAYLIGHT
BEGIN:STANDARD
TZOFFSETFROM:-0700
TZOFFSETTO:-0800
TZNAME:PST
DTSTART:20241103T090000
END:STANDARD
END:VTIMEZONE
BEGIN:VEVENT
DTSTART;TZID=America/Los_Angeles:20230617T110000
DTEND;TZID=America/Los_Angeles:20230617T130000
DTSTAMP:20260422T145851
CREATED:20230530T024341Z
LAST-MODIFIED:20230530T201919Z
UID:10002954-1686999600-1687006800@demvolctr.org
SUMMARY:SD Peninsula calls to VA
DESCRIPTION:Join local Sister District Peninsula volunteers to make calls to help turn the Virginia legislature blue! These races are decided by very few votes—Democrats lost the House of Delegates in 2021 by a total of 733 votes. No experience necessary—training and support are provided.
URL:https://demvolctr.org/event/sd-peninsula-calls-to-va/2023-06-17/
LOCATION:Online
CATEGORIES:Outside Event,Phone Bank
END:VEVENT
BEGIN:VEVENT
DTSTART;TZID=America/Los_Angeles:20230617T130000
DTEND;TZID=America/Los_Angeles:20230617T150000
DTSTAMP:20260422T145851
CREATED:20230530T025040Z
LAST-MODIFIED:20231003T134109Z
UID:10003030-1687006800-1687014000@demvolctr.org
SUMMARY:SD South Bay calls to VA
DESCRIPTION:Join Sister District South Bay to win Virginia! Virginia is having a general election\, and we must flip the House and expand the Senate majority. We lost the House majority in 2021 by 733 votes and the Senate majority is vulnerable. We must elect Democratic candidates in order to pass critical legislation on education\, voting rights\, and gun control\, and fight back against attacks on access to abortion\, LGBTQ+ rights\, and much much more.
URL:https://demvolctr.org/event/sd-south-bay-calls-to-va/2023-06-17/
LOCATION:Online
CATEGORIES:Outside Event,Phone Bank
END:VEVENT
BEGIN:VEVENT
DTSTART;TZID=America/Los_Angeles:20230617T130000
DTEND;TZID=America/Los_Angeles:20230617T150000
DTSTAMP:20260422T145851
CREATED:20231003T134341Z
LAST-MODIFIED:20231003T134344Z
UID:10003219-1687006800-1687014000@demvolctr.org
SUMMARY:SD South Bay calls to VA
DESCRIPTION:Join Sister District South Bay to win Virginia! Virginia is having a general election\, and we must flip the House and expand the Senate majority. We lost the House majority in 2021 by 733 votes and the Senate majority is vulnerable. We must elect Democratic candidates in order to pass critical legislation on education\, voting rights\, and gun control\, and fight back against attacks on access to abortion\, LGBTQ+ rights\, and much much more.
URL:https://demvolctr.org/event/sd-south-bay-calls-to-va-2/2023-06-17/
LOCATION:Online
CATEGORIES:Outside Event,Phone Bank
END:VEVENT
END:VCALENDAR