BEGIN:VCALENDAR
VERSION:2.0
PRODID:-//Democratic Volunteer Center - ECPv6.15.17.1//NONSGML v1.0//EN
CALSCALE:GREGORIAN
METHOD:PUBLISH
X-ORIGINAL-URL:https://demvolctr.org
X-WR-CALDESC:Events for Democratic Volunteer Center
REFRESH-INTERVAL;VALUE=DURATION:PT1H
X-Robots-Tag:noindex
X-PUBLISHED-TTL:PT1H
BEGIN:VTIMEZONE
TZID:America/Los_Angeles
BEGIN:DAYLIGHT
TZOFFSETFROM:-0800
TZOFFSETTO:-0700
TZNAME:PDT
DTSTART:20220313T100000
END:DAYLIGHT
BEGIN:STANDARD
TZOFFSETFROM:-0700
TZOFFSETTO:-0800
TZNAME:PST
DTSTART:20221106T090000
END:STANDARD
BEGIN:DAYLIGHT
TZOFFSETFROM:-0800
TZOFFSETTO:-0700
TZNAME:PDT
DTSTART:20230312T100000
END:DAYLIGHT
BEGIN:STANDARD
TZOFFSETFROM:-0700
TZOFFSETTO:-0800
TZNAME:PST
DTSTART:20231105T090000
END:STANDARD
BEGIN:DAYLIGHT
TZOFFSETFROM:-0800
TZOFFSETTO:-0700
TZNAME:PDT
DTSTART:20240310T100000
END:DAYLIGHT
BEGIN:STANDARD
TZOFFSETFROM:-0700
TZOFFSETTO:-0800
TZNAME:PST
DTSTART:20241103T090000
END:STANDARD
END:VTIMEZONE
BEGIN:VEVENT
DTSTART;TZID=America/Los_Angeles:20230727T143000
DTEND;TZID=America/Los_Angeles:20230727T163000
DTSTAMP:20260420T093007
CREATED:20230626T040045Z
LAST-MODIFIED:20230724T211928Z
UID:10003171-1690468200-1690475400@demvolctr.org
SUMMARY:Ohio Democrats phone bank
DESCRIPTION:Join the Ohio Democratic Party to make calls to help ensure that the 60% threshold to pass a citizen-led constitutional amendment never\, ever becomes Ohio law. Over the course of this imperative fight\, we’ll be calling as many voters throughout Ohio as humanly possible to turn them out to vote. Calling voters is a fantastic way to play a vital role in our turnout efforts! \n\n\n\nNever made calls to voters before? No worries\, you’re in good hands! At the outset of a phonebank\, we’ll thoroughly train you on how to make phone calls using a dialer! Then\, we’ll pivot right into making some calls to voters! After you attend a training and the phonebank afterwards\, you’ll be equipped to make calls anytime that works for your schedule in the future.
URL:https://demvolctr.org/event/ohio-democrats-phone-bank/2023-07-27/
LOCATION:Online
CATEGORIES:Outside Event,Phone Bank
END:VEVENT
END:VCALENDAR