BEGIN:VCALENDAR
VERSION:2.0
PRODID:-//Democratic Volunteer Center - ECPv6.15.17.1//NONSGML v1.0//EN
CALSCALE:GREGORIAN
METHOD:PUBLISH
X-WR-CALNAME:Democratic Volunteer Center
X-ORIGINAL-URL:https://demvolctr.org
X-WR-CALDESC:Events for Democratic Volunteer Center
REFRESH-INTERVAL;VALUE=DURATION:PT1H
X-Robots-Tag:noindex
X-PUBLISHED-TTL:PT1H
BEGIN:VTIMEZONE
TZID:America/Los_Angeles
BEGIN:DAYLIGHT
TZOFFSETFROM:-0800
TZOFFSETTO:-0700
TZNAME:PDT
DTSTART:20220313T100000
END:DAYLIGHT
BEGIN:STANDARD
TZOFFSETFROM:-0700
TZOFFSETTO:-0800
TZNAME:PST
DTSTART:20221106T090000
END:STANDARD
BEGIN:DAYLIGHT
TZOFFSETFROM:-0800
TZOFFSETTO:-0700
TZNAME:PDT
DTSTART:20230312T100000
END:DAYLIGHT
BEGIN:STANDARD
TZOFFSETFROM:-0700
TZOFFSETTO:-0800
TZNAME:PST
DTSTART:20231105T090000
END:STANDARD
BEGIN:DAYLIGHT
TZOFFSETFROM:-0800
TZOFFSETTO:-0700
TZNAME:PDT
DTSTART:20240310T100000
END:DAYLIGHT
BEGIN:STANDARD
TZOFFSETFROM:-0700
TZOFFSETTO:-0800
TZNAME:PST
DTSTART:20241103T090000
END:STANDARD
END:VTIMEZONE
BEGIN:VEVENT
DTSTART;TZID=America/Los_Angeles:20231025T143000
DTEND;TZID=America/Los_Angeles:20231025T163000
DTSTAMP:20260425T053105
CREATED:20230917T234332Z
LAST-MODIFIED:20230917T234332Z
UID:10003212-1698244200-1698251400@demvolctr.org
SUMMARY:Phone bank to VA (BAC)
DESCRIPTION:The Bay Area Coalition is partnering with the Center for Common Ground to make phone calls to African-American voters in Virginia. We will help register and engage them for the November general election. These are nonpartisan calls. Training is provided.
URL:https://demvolctr.org/event/phone-bank-to-va-bac-2/2023-10-25/
LOCATION:Online
CATEGORIES:Outside Event,Phone Bank
ORGANIZER;CN="Center for Common Ground":MAILTO:info@centerforcommonground.org
END:VEVENT
BEGIN:VEVENT
DTSTART;TZID=America/Los_Angeles:20231025T173000
DTEND;TZID=America/Los_Angeles:20231025T183000
DTSTAMP:20260425T053105
CREATED:20230911T133411Z
LAST-MODIFIED:20230911T133412Z
UID:10003197-1698255000-1698258600@demvolctr.org
SUMMARY:Ruth Ben-Ghiat (Swing Left)
DESCRIPTION:Join Swing Left for a presentation by Dr. Ruth Ben-Ghiat\, NYU history professor and MSNBC commentator. An expert on authoritarianism and protecting democracy\, she will give an online talk\, “The GOP as an Authoritarian Party and the Future of US Democracy.”
URL:https://demvolctr.org/event/ruth-ben-ghiat-swing-left/
LOCATION:Online
CATEGORIES:Outside Event,Presentation
END:VEVENT
END:VCALENDAR