BEGIN:VCALENDAR
VERSION:2.0
PRODID:-//Democratic Volunteer Center - ECPv6.15.17.1//NONSGML v1.0//EN
CALSCALE:GREGORIAN
METHOD:PUBLISH
X-WR-CALNAME:Democratic Volunteer Center
X-ORIGINAL-URL:https://demvolctr.org
X-WR-CALDESC:Events for Democratic Volunteer Center
REFRESH-INTERVAL;VALUE=DURATION:PT1H
X-Robots-Tag:noindex
X-PUBLISHED-TTL:PT1H
BEGIN:VTIMEZONE
TZID:America/Los_Angeles
BEGIN:DAYLIGHT
TZOFFSETFROM:-0800
TZOFFSETTO:-0700
TZNAME:PDT
DTSTART:20230312T100000
END:DAYLIGHT
BEGIN:STANDARD
TZOFFSETFROM:-0700
TZOFFSETTO:-0800
TZNAME:PST
DTSTART:20231105T090000
END:STANDARD
BEGIN:DAYLIGHT
TZOFFSETFROM:-0800
TZOFFSETTO:-0700
TZNAME:PDT
DTSTART:20240310T100000
END:DAYLIGHT
BEGIN:STANDARD
TZOFFSETFROM:-0700
TZOFFSETTO:-0800
TZNAME:PST
DTSTART:20241103T090000
END:STANDARD
BEGIN:DAYLIGHT
TZOFFSETFROM:-0800
TZOFFSETTO:-0700
TZNAME:PDT
DTSTART:20250309T100000
END:DAYLIGHT
BEGIN:STANDARD
TZOFFSETFROM:-0700
TZOFFSETTO:-0800
TZNAME:PST
DTSTART:20251102T090000
END:STANDARD
END:VTIMEZONE
BEGIN:VEVENT
DTSTART;TZID=America/Los_Angeles:20240629T090000
DTEND;TZID=America/Los_Angeles:20240629T150000
DTSTAMP:20260421T160841
CREATED:20240520T130608Z
LAST-MODIFIED:20240522T134350Z
UID:10003389-1719651600-1719673200@demvolctr.org
SUMMARY:Canvass in Merced (SCCDP\, BAC)
DESCRIPTION:Sign up to knock on doors in the Central Valley! The Santa Clara County Democratic Party in partnership with the Bay Area Coalition will be heading to Modesto/Merced to canvass for Adam Gray\, who is running for the House seat in CD-13. You’ll be helping to build the grassroots power Democrats need to win in 2024 and to defend democracy long term. Help flip the House in 2024! \n\n\n\nThis canvass will all happen in one day. We’ll depart the Bay Area early in the morning\, canvass for the day and return in the evening. In the week before the canvass\, you will receive an email and a phone call from the volunteer canvass team with all the details about your canvass\, including location specifics. A volunteer will also help you with carpools.  \n\n\n\nIf you’ve never canvassed before or just need a refresher\, join the Bay Area Coalition’s weekly canvassing workshop.
URL:https://demvolctr.org/event/canvass-in-merced-bac/2024-06-29/
LOCATION:Santa Clara County Democratic Party HQ\, 2901 Moorpark Avenue\, Suite 110\, San Jose\, CA\, 95128\, United States
CATEGORIES:Canvass,Outside Event
END:VEVENT
BEGIN:VEVENT
DTSTART;TZID=America/Los_Angeles:20240629T110000
DTEND;TZID=America/Los_Angeles:20240629T130000
DTSTAMP:20260421T160841
CREATED:20240511T164827Z
LAST-MODIFIED:20240511T165757Z
UID:10003345-1719658800-1719666000@demvolctr.org
SUMMARY:Phone bank for Judy Schwiebert (SD)
DESCRIPTION:Join Sister District CA Peninsula to make phone calls to help elect Democrat Judy Schwiebert to the Arizona state Senate. Democrats only need two seats in the AZ legislature to gain a majority in both chambers. We must elect Judy to the state Senate to protect abortion and deliver a Democratic trifecta to Arizona! \n\n\n\nCome one\, come all! No experience necessary. Each Zoom phone bank includes training and check-ins for first-timers. Our veteran phone bank leaders will help you get comfortable\, increase your effectiveness\, and make sure you have a great experience.
URL:https://demvolctr.org/event/phone-bank-for-judy-schwiebert-sd/2024-06-29/
LOCATION:Online
CATEGORIES:Outside Event,Phone Bank
END:VEVENT
BEGIN:VEVENT
DTSTART;TZID=America/Los_Angeles:20240629T120000
DTEND;TZID=America/Los_Angeles:20240629T140000
DTSTAMP:20260421T160841
CREATED:20240516T131843Z
LAST-MODIFIED:20240516T131844Z
UID:10003364-1719662400-1719669600@demvolctr.org
SUMMARY:Postcard/letter writing party
DESCRIPTION:Join Sue and Melissa’s virtual parties with other postcard and letter writers\, every Saturday from noon to 2:00 pm PDT. Get answers to your questions about writing and enjoy a little company while working together to preserve our democracy. Email s.dinwiddie@icloud.com for the Zoom link.
URL:https://demvolctr.org/event/postcard-letter-writing-party-2/2024-06-29/
LOCATION:Online
CATEGORIES:Letter writing,Postcarding
ORGANIZER;CN="Democratic Volunteer Center (DVC)":MAILTO:info@demvolctr.org
END:VEVENT
BEGIN:VEVENT
DTSTART;TZID=America/Los_Angeles:20240629T130000
DTEND;TZID=America/Los_Angeles:20240629T150000
DTSTAMP:20260421T160841
CREATED:20240511T163457Z
LAST-MODIFIED:20240511T165752Z
UID:10003337-1719666000-1719673200@demvolctr.org
SUMMARY:Phone bank for Brittney Miller (SD)
DESCRIPTION:Join Sister District South Bay to make phone calls to reelect Nevada state Assemblywoman Brittney Miller. Our calls will also help drive turnout in this key battleground state for the presidential race\, U.S. Senator Jacky Rosen (D)\, and a competitive congressional race. \n\n\n\nCome one\, come all! No experience necessary. Each Zoom phone bank includes training and check-ins for first-timers. Our veteran phone bank leaders will help you get comfortable\, increase your effectiveness\, and make sure you have a great experience.
URL:https://demvolctr.org/event/phone-bank-for-brittney-miller-sd/2024-06-29/
LOCATION:Online
CATEGORIES:Outside Event,Phone Bank
END:VEVENT
END:VCALENDAR