BEGIN:VCALENDAR
VERSION:2.0
PRODID:-//Democratic Volunteer Center - ECPv6.15.17.1//NONSGML v1.0//EN
CALSCALE:GREGORIAN
METHOD:PUBLISH
X-WR-CALNAME:Democratic Volunteer Center
X-ORIGINAL-URL:https://demvolctr.org
X-WR-CALDESC:Events for Democratic Volunteer Center
REFRESH-INTERVAL;VALUE=DURATION:PT1H
X-Robots-Tag:noindex
X-PUBLISHED-TTL:PT1H
BEGIN:VTIMEZONE
TZID:America/Los_Angeles
BEGIN:DAYLIGHT
TZOFFSETFROM:-0800
TZOFFSETTO:-0700
TZNAME:PDT
DTSTART:20240310T100000
END:DAYLIGHT
BEGIN:STANDARD
TZOFFSETFROM:-0700
TZOFFSETTO:-0800
TZNAME:PST
DTSTART:20241103T090000
END:STANDARD
BEGIN:DAYLIGHT
TZOFFSETFROM:-0800
TZOFFSETTO:-0700
TZNAME:PDT
DTSTART:20250309T100000
END:DAYLIGHT
BEGIN:STANDARD
TZOFFSETFROM:-0700
TZOFFSETTO:-0800
TZNAME:PST
DTSTART:20251102T090000
END:STANDARD
BEGIN:DAYLIGHT
TZOFFSETFROM:-0800
TZOFFSETTO:-0700
TZNAME:PDT
DTSTART:20260308T100000
END:DAYLIGHT
BEGIN:STANDARD
TZOFFSETFROM:-0700
TZOFFSETTO:-0800
TZNAME:PST
DTSTART:20261101T090000
END:STANDARD
END:VTIMEZONE
BEGIN:VEVENT
DTSTART;TZID=America/Los_Angeles:20251019T093000
DTEND;TZID=America/Los_Angeles:20251019T123000
DTSTAMP:20260423T082749
CREATED:20251001T144106Z
LAST-MODIFIED:20251001T144107Z
UID:10004209-1760866200-1760877000@demvolctr.org
SUMMARY:Canvass for Prop. 50 in San Jose
DESCRIPTION:Come knock on doors with us and help stop the Trump / MAGA agenda. Trump is trying to rig the midterm elections\, and passing Proposition 50 is the best chance we have of stopping him and taking back Congress next year. Join the Santa Clara County Democratic Party to knock on doors in San Jose. Face to face conversations are the best way to persuade and turn out our voters. \n\n\n\nWe’ll do a short training on the script and FAQs\, and we have walk pieces to share with folks.
URL:https://demvolctr.org/event/canvass-for-prop-50-in-san-jose/2025-10-19/
LOCATION:Santa Clara County Democratic Party HQ\, 2901 Moorpark Avenue\, Suite 110\, San Jose\, CA\, 95128\, United States
CATEGORIES:Canvass,Outside Event
ORGANIZER;CN="Santa Clara County Democratic Party":MAILTO:info@sccdp.org
END:VEVENT
BEGIN:VEVENT
DTSTART;TZID=America/Los_Angeles:20251019T093000
DTEND;TZID=America/Los_Angeles:20251019T130000
DTSTAMP:20260423T082749
CREATED:20251001T143137Z
LAST-MODIFIED:20251001T143138Z
UID:10004208-1760866200-1760878800@demvolctr.org
SUMMARY:Canvass for Prop. 50 in San Mateo
DESCRIPTION:As partisan gerrymandering in states like Texas threatens to undermine democracy\, California is stepping up with Proposition 50. It is vital that voters are informed and turned out to vote YES ON 50 by November 4. Join Swing Left Peninsula and Indivisible San Mateo with the Bay Area Coalition to knock on doors in San Mateo. No experience is necessary. Don’t worry if you’ve never done this before–we’ll cover everything you need to know once you arrive. And once you get going\, you’ll find that talking to voters is fun and rewarding. \n\n\n\nA Bay Area Coalition volunteer will contact you a few days before the event with details about the meeting location and names of people running the event. Bring comfy shoes\, a bag to carry your literature\, a water bottle\, a pen\, and a smile. A well-powered smartphone is also necessary. RSVP today and invite a friend to join us!
URL:https://demvolctr.org/event/canvass-for-prop-50-in-san-mateo/
LOCATION:San Mateo\, CA\, San Mateo\, CA\, United States
CATEGORIES:Canvass,Outside Event
END:VEVENT
BEGIN:VEVENT
DTSTART;TZID=America/Los_Angeles:20251019T120000
DTEND;TZID=America/Los_Angeles:20251019T140000
DTSTAMP:20260423T082749
CREATED:20251004T184825Z
LAST-MODIFIED:20251004T184826Z
UID:10004246-1760875200-1760882400@demvolctr.org
SUMMARY:Phone bank for Prop. 50 in Spanish
DESCRIPTION:Join the California Democratic Party‘s virtual phone banks and help stop the Trump / MAGA agenda. Trump is trying to rig the midterm elections\, and passing Proposition 50 is the best chance we have of taking back Congress next year. We’re making calls 6 days per week in English plus 2 days per week in Spanish: \n\n\n\n\nSundays 12:00pm – 2:00pm PT\n\n\n\nThursdays 6:00pm – 8:00pm PT\n\n\n\n\nWe’ll gather on Zoom. We’ll have a short training at the beginning of each shift on using the Scale to Win dialer. Join us as often as you can\, encourage your friends to come\, and help save our country!
URL:https://demvolctr.org/event/phone-bank-for-prop-50-in-spanish/2025-10-19/
LOCATION:Online
CATEGORIES:Outside Event,Phone Bank
ORGANIZER;CN="California Democratic Party":MAILTO:info@cadem.org
END:VEVENT
BEGIN:VEVENT
DTSTART;TZID=America/Los_Angeles:20251019T150000
DTEND;TZID=America/Los_Angeles:20251019T170000
DTSTAMP:20260423T082749
CREATED:20251004T174144Z
LAST-MODIFIED:20251004T174145Z
UID:10004213-1760886000-1760893200@demvolctr.org
SUMMARY:Phone bank for Prop. 50
DESCRIPTION:Join the California Democratic Party‘s virtual phone banks and help stop the Trump / MAGA agenda. Trump is trying to rig the midterm elections\, and passing Proposition 50 is the best chance we have of taking back Congress next year. We’re making calls 6 days per week.  \n\n\n\nWe’ll gather on Zoom. We’ll have a short training at the beginning of each shift on using the Scale to Win dialer. Join us as often as you can\, encourage your friends to come\, and help save our country!
URL:https://demvolctr.org/event/phone-bank-for-prop-50/2025-10-19/
LOCATION:Online
CATEGORIES:Outside Event,Phone Bank
ORGANIZER;CN="California Democratic Party":MAILTO:info@cadem.org
END:VEVENT
END:VCALENDAR