BEGIN:VCALENDAR
VERSION:2.0
PRODID:-//Democratic Volunteer Center - ECPv6.15.17.1//NONSGML v1.0//EN
CALSCALE:GREGORIAN
METHOD:PUBLISH
X-WR-CALNAME:Democratic Volunteer Center
X-ORIGINAL-URL:https://demvolctr.org
X-WR-CALDESC:Events for Democratic Volunteer Center
REFRESH-INTERVAL;VALUE=DURATION:PT1H
X-Robots-Tag:noindex
X-PUBLISHED-TTL:PT1H
BEGIN:VTIMEZONE
TZID:America/Los_Angeles
BEGIN:DAYLIGHT
TZOFFSETFROM:-0800
TZOFFSETTO:-0700
TZNAME:PDT
DTSTART:20250309T100000
END:DAYLIGHT
BEGIN:STANDARD
TZOFFSETFROM:-0700
TZOFFSETTO:-0800
TZNAME:PST
DTSTART:20251102T090000
END:STANDARD
BEGIN:DAYLIGHT
TZOFFSETFROM:-0800
TZOFFSETTO:-0700
TZNAME:PDT
DTSTART:20260308T100000
END:DAYLIGHT
BEGIN:STANDARD
TZOFFSETFROM:-0700
TZOFFSETTO:-0800
TZNAME:PST
DTSTART:20261101T090000
END:STANDARD
BEGIN:DAYLIGHT
TZOFFSETFROM:-0800
TZOFFSETTO:-0700
TZNAME:PDT
DTSTART:20270314T100000
END:DAYLIGHT
BEGIN:STANDARD
TZOFFSETFROM:-0700
TZOFFSETTO:-0800
TZNAME:PST
DTSTART:20271107T090000
END:STANDARD
END:VTIMEZONE
BEGIN:VEVENT
DTSTART;TZID=America/Los_Angeles:20260307T100000
DTEND;TZID=America/Los_Angeles:20260307T113000
DTSTAMP:20260420T200703
CREATED:20260228T053218Z
LAST-MODIFIED:20260228T053219Z
UID:10004402-1772877600-1772883000@demvolctr.org
SUMMARY:Fighting for America: How We Win 2026
DESCRIPTION:The 2026 elections are our best chance to restore basic checks and balances: real accountability\, separation of powers\, and transparency in government. If Democrats can retake the House\, win key Senate seats\, and build up the power in the states\, we’ll have a crucial line of defense against Trump’s ongoing efforts to erode democratic norms\, damage the economy\, and strip away rights. \n\n\n\nAre you ready to move from worry to action? At Fighting for America: How We Win 2026 you’ll hear from It’s Blue Turn speakers and partner organizations about what’s at stake in 2026\, what can realistically be won\, and what it will take to get there. You’ll leave with concrete\, practical actions you can take—wherever you are—to help build the power we need for a better future for all of us. \n\n\n\nThis event will be hosted by retired judge LaDoris Cordell\, a trailblazing longtime community activist. Hosted in in partnership with Santa Clara County Democratic Party\, San Mateo County Democratic Party\, Democratic Volunteer Center\, Bay Area Coalition\, Indivisible Portola Valley\, Peninsula Democratic Coalition\, Indivisible Mid-Peninsula\, Indivisible Palo Alto Plus\, and Swing Left Peninsula.
URL:https://demvolctr.org/event/fighting-for-america-how-we-win-2026-2/
LOCATION:Online
CATEGORIES:Forum
END:VEVENT
END:VCALENDAR