BEGIN:VCALENDAR
VERSION:2.0
PRODID:-//Democratic Volunteer Center - ECPv6.15.17.1//NONSGML v1.0//EN
CALSCALE:GREGORIAN
METHOD:PUBLISH
X-WR-CALNAME:Democratic Volunteer Center
X-ORIGINAL-URL:https://demvolctr.org
X-WR-CALDESC:Events for Democratic Volunteer Center
REFRESH-INTERVAL;VALUE=DURATION:PT1H
X-Robots-Tag:noindex
X-PUBLISHED-TTL:PT1H
BEGIN:VTIMEZONE
TZID:America/Los_Angeles
BEGIN:DAYLIGHT
TZOFFSETFROM:-0800
TZOFFSETTO:-0700
TZNAME:PDT
DTSTART:20250309T100000
END:DAYLIGHT
BEGIN:STANDARD
TZOFFSETFROM:-0700
TZOFFSETTO:-0800
TZNAME:PST
DTSTART:20251102T090000
END:STANDARD
BEGIN:DAYLIGHT
TZOFFSETFROM:-0800
TZOFFSETTO:-0700
TZNAME:PDT
DTSTART:20260308T100000
END:DAYLIGHT
BEGIN:STANDARD
TZOFFSETFROM:-0700
TZOFFSETTO:-0800
TZNAME:PST
DTSTART:20261101T090000
END:STANDARD
BEGIN:DAYLIGHT
TZOFFSETFROM:-0800
TZOFFSETTO:-0700
TZNAME:PDT
DTSTART:20270314T100000
END:DAYLIGHT
BEGIN:STANDARD
TZOFFSETFROM:-0700
TZOFFSETTO:-0800
TZNAME:PST
DTSTART:20271107T090000
END:STANDARD
END:VTIMEZONE
BEGIN:VEVENT
DTSTART;TZID=America/Los_Angeles:20260418T093000
DTEND;TZID=America/Los_Angeles:20260418T130000
DTSTAMP:20260420T183255
CREATED:20260125T214518Z
LAST-MODIFIED:20260125T214518Z
UID:10004325-1776504600-1776517200@demvolctr.org
SUMMARY:Knock on doors in Modesto (BAC)
DESCRIPTION:Join the Bay Area Coalition to knock on doors and register voters in Congressional District CA-13! Join us in going door-to-door talking to Democratic voters in Modesto. In 2024 Adam Gray flipped the seat by only 187 votes. Let’s talk to Democrats now to hold CA-13 in 2026\, as we take back the House majority! \n\n\n\nOnce you’ve signed up\, a Bay Area Coalition volunteer will contact you and help with carpools. They will also give you details about the meeting location and names of people running the event.
URL:https://demvolctr.org/event/knock-on-doors-in-modesto-bac/2026-04-18/
LOCATION:Modesto\, CA\, Modesto\, CA\, United States
CATEGORIES:Canvass,Outside Event
END:VEVENT
BEGIN:VEVENT
DTSTART;TZID=America/Los_Angeles:20260418T100000
DTEND;TZID=America/Los_Angeles:20260418T120000
DTSTAMP:20260420T183255
CREATED:20260316T043025Z
LAST-MODIFIED:20260317T040836Z
UID:10004410-1776506400-1776513600@demvolctr.org
SUMMARY:Postcard/letter writing party
DESCRIPTION:Join Sue and Melissa’s virtual parties with other postcard and letter writers\, every Saturday from 10:00 a.m. to 12 noon Pacific time. This is a friendly group that shares political news and ideas as they write letters and postcards in support of Democratic candidates and causes. Email s.dinwiddie@icloud.com for the Zoom link.
URL:https://demvolctr.org/event/postcard-letter-writing-party-11/2026-04-18/
LOCATION:Online
CATEGORIES:Letter writing,Postcarding
ORGANIZER;CN="Democratic Volunteer Center (DVC)":MAILTO:info@demvolctr.org
END:VEVENT
END:VCALENDAR