BEGIN:VCALENDAR
VERSION:2.0
PRODID:-//Democratic Volunteer Center - ECPv6.15.17.1//NONSGML v1.0//EN
CALSCALE:GREGORIAN
METHOD:PUBLISH
X-ORIGINAL-URL:https://demvolctr.org
X-WR-CALDESC:Events for Democratic Volunteer Center
REFRESH-INTERVAL;VALUE=DURATION:PT1H
X-Robots-Tag:noindex
X-PUBLISHED-TTL:PT1H
BEGIN:VTIMEZONE
TZID:America/Los_Angeles
BEGIN:DAYLIGHT
TZOFFSETFROM:-0800
TZOFFSETTO:-0700
TZNAME:PDT
DTSTART:20250309T100000
END:DAYLIGHT
BEGIN:STANDARD
TZOFFSETFROM:-0700
TZOFFSETTO:-0800
TZNAME:PST
DTSTART:20251102T090000
END:STANDARD
BEGIN:DAYLIGHT
TZOFFSETFROM:-0800
TZOFFSETTO:-0700
TZNAME:PDT
DTSTART:20260308T100000
END:DAYLIGHT
BEGIN:STANDARD
TZOFFSETFROM:-0700
TZOFFSETTO:-0800
TZNAME:PST
DTSTART:20261101T090000
END:STANDARD
BEGIN:DAYLIGHT
TZOFFSETFROM:-0800
TZOFFSETTO:-0700
TZNAME:PDT
DTSTART:20270314T100000
END:DAYLIGHT
BEGIN:STANDARD
TZOFFSETFROM:-0700
TZOFFSETTO:-0800
TZNAME:PST
DTSTART:20271107T090000
END:STANDARD
END:VTIMEZONE
BEGIN:VEVENT
DTSTART;TZID=America/Los_Angeles:20260425T090000
DTEND;TZID=America/Los_Angeles:20260425T150000
DTSTAMP:20260420T183538
CREATED:20260125T222334Z
LAST-MODIFIED:20260125T222334Z
UID:10004331-1777107600-1777129200@demvolctr.org
SUMMARY:Knock on doors in Merced (BAC)
DESCRIPTION:Join the Bay Area Coalition to knock on doors and register voters in Congressional District CA-13! Join us in going door-to-door talking to Democratic voters in Merced. In 2024 Adam Gray flipped the seat by only 187 votes. Let’s talk to Democrats now to hold CA-13 in 2026\, as we take back the House majority! \n\n\n\nOnce you’ve signed up\, a Bay Area Coalition volunteer will contact you and help with carpools. They will also give you details about the meeting location and names of people running the event.
URL:https://demvolctr.org/event/knock-on-doors-in-merced-bac/2026-04-25/
LOCATION:Merced\, CA\, 541 W Main St\, Merced\, CA\, 95340\, United States
CATEGORIES:Canvass,Outside Event
END:VEVENT
BEGIN:VEVENT
DTSTART;TZID=America/Los_Angeles:20260425T093000
DTEND;TZID=America/Los_Angeles:20260425T123000
DTSTAMP:20260420T183538
CREATED:20260419T202015Z
LAST-MODIFIED:20260419T202015Z
UID:10004477-1777109400-1777120200@demvolctr.org
SUMMARY:Knock on doors in Patterson (SLP)
DESCRIPTION:Join Swing Left Peninsula in going door-to-door to talk to voters in Patterson in the Central Valley\, in California’s 13th Congressional District (CA-13). In 2024 Adam Gray flipped this House seat by only 187 votes. Let’s talk to voters now to hold CA-13 in 2026\, as we take back the House majority! \n\n\n\nIf you need a ride\, we may have carpools available. If you want to drive\, please let us know.
URL:https://demvolctr.org/event/knock-on-doors-in-patterson-slp/2026-04-25/
LOCATION:Patterson\, CA\, Patterson\, CA\, United States
CATEGORIES:Canvass,Outside Event
ORGANIZER;CN="Swing Left Peninsula":MAILTO:info@swingleftpeninsula.org
END:VEVENT
BEGIN:VEVENT
DTSTART;TZID=America/Los_Angeles:20260425T100000
DTEND;TZID=America/Los_Angeles:20260425T120000
DTSTAMP:20260420T183538
CREATED:20260316T043025Z
LAST-MODIFIED:20260317T040836Z
UID:10004411-1777111200-1777118400@demvolctr.org
SUMMARY:Postcard/letter writing party
DESCRIPTION:Join Sue and Melissa’s virtual parties with other postcard and letter writers\, every Saturday from 10:00 a.m. to 12 noon Pacific time. This is a friendly group that shares political news and ideas as they write letters and postcards in support of Democratic candidates and causes. Email s.dinwiddie@icloud.com for the Zoom link.
URL:https://demvolctr.org/event/postcard-letter-writing-party-11/2026-04-25/
LOCATION:Online
CATEGORIES:Letter writing,Postcarding
ORGANIZER;CN="Democratic Volunteer Center (DVC)":MAILTO:info@demvolctr.org
END:VEVENT
BEGIN:VEVENT
DTSTART;TZID=America/Los_Angeles:20260425T140000
DTEND;TZID=America/Los_Angeles:20260425T160000
DTSTAMP:20260420T183538
CREATED:20260330T043519Z
LAST-MODIFIED:20260331T131401Z
UID:10004468-1777125600-1777132800@demvolctr.org
SUMMARY:In-person kickoff (SLP)
DESCRIPTION:Join Swing Left Peninsula for our 2026 kickoff meeting in Palo Alto. Working to win back the House in 2026 isn’t just important—it’s a fundamental piece of the “stop Trump” strategy. At this in-person event\, you’ll learn about our plan to help flip the House\, focusing on competitive swing districts. After a large group meeting\, we’ll break into smaller groups on a variety of topics\, including empathetic listening\, donating effectively\, writing letters to new voters in Pennsylvania\, and brainstorming about future events.
URL:https://demvolctr.org/event/in-person-kickoff-slp/
LOCATION:Palo Alto\, CA\, Palo Alto\, CA\, United States
CATEGORIES:Meeting,Outside Event
ORGANIZER;CN="Swing Left Peninsula":MAILTO:info@swingleftpeninsula.org
END:VEVENT
END:VCALENDAR