BEGIN:VCALENDAR
VERSION:2.0
PRODID:-//Democratic Volunteer Center - ECPv6.15.17.1//NONSGML v1.0//EN
CALSCALE:GREGORIAN
METHOD:PUBLISH
X-WR-CALNAME:Democratic Volunteer Center
X-ORIGINAL-URL:https://demvolctr.org
X-WR-CALDESC:Events for Democratic Volunteer Center
REFRESH-INTERVAL;VALUE=DURATION:PT1H
X-Robots-Tag:noindex
X-PUBLISHED-TTL:PT1H
BEGIN:VTIMEZONE
TZID:America/Los_Angeles
BEGIN:DAYLIGHT
TZOFFSETFROM:-0800
TZOFFSETTO:-0700
TZNAME:PDT
DTSTART:20230312T100000
END:DAYLIGHT
BEGIN:STANDARD
TZOFFSETFROM:-0700
TZOFFSETTO:-0800
TZNAME:PST
DTSTART:20231105T090000
END:STANDARD
BEGIN:DAYLIGHT
TZOFFSETFROM:-0800
TZOFFSETTO:-0700
TZNAME:PDT
DTSTART:20240310T100000
END:DAYLIGHT
BEGIN:STANDARD
TZOFFSETFROM:-0700
TZOFFSETTO:-0800
TZNAME:PST
DTSTART:20241103T090000
END:STANDARD
BEGIN:DAYLIGHT
TZOFFSETFROM:-0800
TZOFFSETTO:-0700
TZNAME:PDT
DTSTART:20250309T100000
END:DAYLIGHT
BEGIN:STANDARD
TZOFFSETFROM:-0700
TZOFFSETTO:-0800
TZNAME:PST
DTSTART:20251102T090000
END:STANDARD
BEGIN:DAYLIGHT
TZOFFSETFROM:-0800
TZOFFSETTO:-0700
TZNAME:PDT
DTSTART:20260308T100000
END:DAYLIGHT
BEGIN:STANDARD
TZOFFSETFROM:-0700
TZOFFSETTO:-0800
TZNAME:PST
DTSTART:20261101T090000
END:STANDARD
END:VTIMEZONE
BEGIN:VEVENT
DTSTART;TZID=America/Los_Angeles:20241023T120000
DTEND;TZID=America/Los_Angeles:20241023T160000
DTSTAMP:20260422T002348
CREATED:20240922T140310Z
LAST-MODIFIED:20240922T140311Z
UID:10003641-1729684800-1729699200@demvolctr.org
SUMMARY:Postcard/letter writing
DESCRIPTION:Join us at the Democratic Volunteer Center office 7 days a week from 12:00 noon to 4:00pm to write postcards or letters to support Democratic candidates and causes. Enjoy some time with fellow Democrats as you write. Everything you need will be provided except stamps\, which you can order at https://store.usps.com/store/stamps.
URL:https://demvolctr.org/event/postcard-letter-writing-4/2024-10-23/
LOCATION:DVC Headquarters\, 2460 E Charleston Road\, Mountain View\, CA\, 94043\, United States
CATEGORIES:Letter writing,Postcarding
ORGANIZER;CN="Democratic Volunteer Center (DVC)":MAILTO:info@demvolctr.org
END:VEVENT
BEGIN:VEVENT
DTSTART;TZID=America/Los_Angeles:20241024T120000
DTEND;TZID=America/Los_Angeles:20241024T160000
DTSTAMP:20260422T002348
CREATED:20240922T140310Z
LAST-MODIFIED:20240922T140311Z
UID:10003642-1729771200-1729785600@demvolctr.org
SUMMARY:Postcard/letter writing
DESCRIPTION:Join us at the Democratic Volunteer Center office 7 days a week from 12:00 noon to 4:00pm to write postcards or letters to support Democratic candidates and causes. Enjoy some time with fellow Democrats as you write. Everything you need will be provided except stamps\, which you can order at https://store.usps.com/store/stamps.
URL:https://demvolctr.org/event/postcard-letter-writing-4/2024-10-24/
LOCATION:DVC Headquarters\, 2460 E Charleston Road\, Mountain View\, CA\, 94043\, United States
CATEGORIES:Letter writing,Postcarding
ORGANIZER;CN="Democratic Volunteer Center (DVC)":MAILTO:info@demvolctr.org
END:VEVENT
BEGIN:VEVENT
DTSTART;TZID=America/Los_Angeles:20241025T120000
DTEND;TZID=America/Los_Angeles:20241025T160000
DTSTAMP:20260422T002348
CREATED:20240922T140310Z
LAST-MODIFIED:20240922T140311Z
UID:10003643-1729857600-1729872000@demvolctr.org
SUMMARY:Postcard/letter writing
DESCRIPTION:Join us at the Democratic Volunteer Center office 7 days a week from 12:00 noon to 4:00pm to write postcards or letters to support Democratic candidates and causes. Enjoy some time with fellow Democrats as you write. Everything you need will be provided except stamps\, which you can order at https://store.usps.com/store/stamps.
URL:https://demvolctr.org/event/postcard-letter-writing-4/2024-10-25/
LOCATION:DVC Headquarters\, 2460 E Charleston Road\, Mountain View\, CA\, 94043\, United States
CATEGORIES:Letter writing,Postcarding
ORGANIZER;CN="Democratic Volunteer Center (DVC)":MAILTO:info@demvolctr.org
END:VEVENT
BEGIN:VEVENT
DTSTART;TZID=America/Los_Angeles:20241026T120000
DTEND;TZID=America/Los_Angeles:20241026T140000
DTSTAMP:20260422T002348
CREATED:20241015T205209Z
LAST-MODIFIED:20241015T211136Z
UID:10003804-1729944000-1729951200@demvolctr.org
SUMMARY:Virtual postcard/letter writing party
DESCRIPTION:Join Sue and Melissa’s virtual parties with other postcard and letter writers\, every Saturday from noon to 2:00 pm PDT. Get answers to your questions about writing and enjoy a little company while working together to preserve our democracy. Email s.dinwiddie@icloud.com for the Zoom link.
URL:https://demvolctr.org/event/virtual-postcard-letter-writing-party-3/
LOCATION:Online
CATEGORIES:Letter writing
ORGANIZER;CN="Democratic Volunteer Center (DVC)":MAILTO:info@demvolctr.org
END:VEVENT
BEGIN:VEVENT
DTSTART;TZID=America/Los_Angeles:20241026T120000
DTEND;TZID=America/Los_Angeles:20241026T160000
DTSTAMP:20260422T002348
CREATED:20240922T140310Z
LAST-MODIFIED:20240922T140311Z
UID:10003644-1729944000-1729958400@demvolctr.org
SUMMARY:Postcard/letter writing
DESCRIPTION:Join us at the Democratic Volunteer Center office 7 days a week from 12:00 noon to 4:00pm to write postcards or letters to support Democratic candidates and causes. Enjoy some time with fellow Democrats as you write. Everything you need will be provided except stamps\, which you can order at https://store.usps.com/store/stamps.
URL:https://demvolctr.org/event/postcard-letter-writing-4/2024-10-26/
LOCATION:DVC Headquarters\, 2460 E Charleston Road\, Mountain View\, CA\, 94043\, United States
CATEGORIES:Letter writing,Postcarding
ORGANIZER;CN="Democratic Volunteer Center (DVC)":MAILTO:info@demvolctr.org
END:VEVENT
BEGIN:VEVENT
DTSTART;TZID=America/Los_Angeles:20250125T120000
DTEND;TZID=America/Los_Angeles:20250125T140000
DTSTAMP:20260422T002348
CREATED:20250113T060119Z
LAST-MODIFIED:20250113T060120Z
UID:10003855-1737806400-1737813600@demvolctr.org
SUMMARY:Postcard/letter writing party
DESCRIPTION:Join Sue and Melissa on Zoom for their first writing event of the year. Last year the group met on Saturdays from January until just before the November election. This is a friendly group that shares political news and ideas as they write letters and postcards in support of Democratic candidates and causes. Contact Sue for the link: s.dinwiddie@icloud.com.
URL:https://demvolctr.org/event/postcard-letter-writing-party-6/
LOCATION:Online
CATEGORIES:Letter writing,Postcarding
ORGANIZER;CN="Democratic Volunteer Center (DVC)":MAILTO:info@demvolctr.org
END:VEVENT
BEGIN:VEVENT
DTSTART;TZID=America/Los_Angeles:20250201T120000
DTEND;TZID=America/Los_Angeles:20250201T140000
DTSTAMP:20260422T002348
CREATED:20250123T144942Z
LAST-MODIFIED:20250123T145317Z
UID:10003858-1738411200-1738418400@demvolctr.org
SUMMARY:Postcard/letter writing party
DESCRIPTION:Join Sue and Melissa’s virtual parties with other postcard and letter writers\, every Saturday from noon to 2:00 pm Pacific time. This is a friendly group that shares political news and ideas as they write letters and postcards in support of Democratic candidates and causes. Email s.dinwiddie@icloud.com for the Zoom link.
URL:https://demvolctr.org/event/postcard-letter-writing-party-7/2025-02-01/
LOCATION:Online
CATEGORIES:Letter writing,Postcarding
ORGANIZER;CN="Democratic Volunteer Center (DVC)":MAILTO:info@demvolctr.org
END:VEVENT
BEGIN:VEVENT
DTSTART;TZID=America/Los_Angeles:20250208T120000
DTEND;TZID=America/Los_Angeles:20250208T140000
DTSTAMP:20260422T002348
CREATED:20250123T144942Z
LAST-MODIFIED:20250123T145317Z
UID:10003859-1739016000-1739023200@demvolctr.org
SUMMARY:Postcard/letter writing party
DESCRIPTION:Join Sue and Melissa’s virtual parties with other postcard and letter writers\, every Saturday from noon to 2:00 pm Pacific time. This is a friendly group that shares political news and ideas as they write letters and postcards in support of Democratic candidates and causes. Email s.dinwiddie@icloud.com for the Zoom link.
URL:https://demvolctr.org/event/postcard-letter-writing-party-7/2025-02-08/
LOCATION:Online
CATEGORIES:Letter writing,Postcarding
ORGANIZER;CN="Democratic Volunteer Center (DVC)":MAILTO:info@demvolctr.org
END:VEVENT
BEGIN:VEVENT
DTSTART;TZID=America/Los_Angeles:20250215T120000
DTEND;TZID=America/Los_Angeles:20250215T140000
DTSTAMP:20260422T002348
CREATED:20250123T144942Z
LAST-MODIFIED:20250123T145317Z
UID:10003860-1739620800-1739628000@demvolctr.org
SUMMARY:Postcard/letter writing party
DESCRIPTION:Join Sue and Melissa’s virtual parties with other postcard and letter writers\, every Saturday from noon to 2:00 pm Pacific time. This is a friendly group that shares political news and ideas as they write letters and postcards in support of Democratic candidates and causes. Email s.dinwiddie@icloud.com for the Zoom link.
URL:https://demvolctr.org/event/postcard-letter-writing-party-7/2025-02-15/
LOCATION:Online
CATEGORIES:Letter writing,Postcarding
ORGANIZER;CN="Democratic Volunteer Center (DVC)":MAILTO:info@demvolctr.org
END:VEVENT
BEGIN:VEVENT
DTSTART;TZID=America/Los_Angeles:20250222T120000
DTEND;TZID=America/Los_Angeles:20250222T140000
DTSTAMP:20260422T002348
CREATED:20250123T144942Z
LAST-MODIFIED:20250123T145317Z
UID:10003861-1740225600-1740232800@demvolctr.org
SUMMARY:Postcard/letter writing party
DESCRIPTION:Join Sue and Melissa’s virtual parties with other postcard and letter writers\, every Saturday from noon to 2:00 pm Pacific time. This is a friendly group that shares political news and ideas as they write letters and postcards in support of Democratic candidates and causes. Email s.dinwiddie@icloud.com for the Zoom link.
URL:https://demvolctr.org/event/postcard-letter-writing-party-7/2025-02-22/
LOCATION:Online
CATEGORIES:Letter writing,Postcarding
ORGANIZER;CN="Democratic Volunteer Center (DVC)":MAILTO:info@demvolctr.org
END:VEVENT
BEGIN:VEVENT
DTSTART;TZID=America/Los_Angeles:20250301T120000
DTEND;TZID=America/Los_Angeles:20250301T140000
DTSTAMP:20260422T002348
CREATED:20250123T144942Z
LAST-MODIFIED:20250123T145317Z
UID:10003862-1740830400-1740837600@demvolctr.org
SUMMARY:Postcard/letter writing party
DESCRIPTION:Join Sue and Melissa’s virtual parties with other postcard and letter writers\, every Saturday from noon to 2:00 pm Pacific time. This is a friendly group that shares political news and ideas as they write letters and postcards in support of Democratic candidates and causes. Email s.dinwiddie@icloud.com for the Zoom link.
URL:https://demvolctr.org/event/postcard-letter-writing-party-7/2025-03-01/
LOCATION:Online
CATEGORIES:Letter writing,Postcarding
ORGANIZER;CN="Democratic Volunteer Center (DVC)":MAILTO:info@demvolctr.org
END:VEVENT
BEGIN:VEVENT
DTSTART;TZID=America/Los_Angeles:20250308T120000
DTEND;TZID=America/Los_Angeles:20250308T140000
DTSTAMP:20260422T002348
CREATED:20250123T144942Z
LAST-MODIFIED:20250123T145317Z
UID:10003863-1741435200-1741442400@demvolctr.org
SUMMARY:Postcard/letter writing party
DESCRIPTION:Join Sue and Melissa’s virtual parties with other postcard and letter writers\, every Saturday from noon to 2:00 pm Pacific time. This is a friendly group that shares political news and ideas as they write letters and postcards in support of Democratic candidates and causes. Email s.dinwiddie@icloud.com for the Zoom link.
URL:https://demvolctr.org/event/postcard-letter-writing-party-7/2025-03-08/
LOCATION:Online
CATEGORIES:Letter writing,Postcarding
ORGANIZER;CN="Democratic Volunteer Center (DVC)":MAILTO:info@demvolctr.org
END:VEVENT
BEGIN:VEVENT
DTSTART;TZID=America/Los_Angeles:20250315T120000
DTEND;TZID=America/Los_Angeles:20250315T140000
DTSTAMP:20260422T002348
CREATED:20250123T144942Z
LAST-MODIFIED:20250123T145317Z
UID:10003864-1742040000-1742047200@demvolctr.org
SUMMARY:Postcard/letter writing party
DESCRIPTION:Join Sue and Melissa’s virtual parties with other postcard and letter writers\, every Saturday from noon to 2:00 pm Pacific time. This is a friendly group that shares political news and ideas as they write letters and postcards in support of Democratic candidates and causes. Email s.dinwiddie@icloud.com for the Zoom link.
URL:https://demvolctr.org/event/postcard-letter-writing-party-7/2025-03-15/
LOCATION:Online
CATEGORIES:Letter writing,Postcarding
ORGANIZER;CN="Democratic Volunteer Center (DVC)":MAILTO:info@demvolctr.org
END:VEVENT
BEGIN:VEVENT
DTSTART;TZID=America/Los_Angeles:20250322T120000
DTEND;TZID=America/Los_Angeles:20250322T140000
DTSTAMP:20260422T002348
CREATED:20250123T144942Z
LAST-MODIFIED:20250123T145317Z
UID:10003865-1742644800-1742652000@demvolctr.org
SUMMARY:Postcard/letter writing party
DESCRIPTION:Join Sue and Melissa’s virtual parties with other postcard and letter writers\, every Saturday from noon to 2:00 pm Pacific time. This is a friendly group that shares political news and ideas as they write letters and postcards in support of Democratic candidates and causes. Email s.dinwiddie@icloud.com for the Zoom link.
URL:https://demvolctr.org/event/postcard-letter-writing-party-7/2025-03-22/
LOCATION:Online
CATEGORIES:Letter writing,Postcarding
ORGANIZER;CN="Democratic Volunteer Center (DVC)":MAILTO:info@demvolctr.org
END:VEVENT
BEGIN:VEVENT
DTSTART;TZID=America/Los_Angeles:20250329T120000
DTEND;TZID=America/Los_Angeles:20250329T140000
DTSTAMP:20260422T002348
CREATED:20250123T144942Z
LAST-MODIFIED:20250123T145317Z
UID:10003866-1743249600-1743256800@demvolctr.org
SUMMARY:Postcard/letter writing party
DESCRIPTION:Join Sue and Melissa’s virtual parties with other postcard and letter writers\, every Saturday from noon to 2:00 pm Pacific time. This is a friendly group that shares political news and ideas as they write letters and postcards in support of Democratic candidates and causes. Email s.dinwiddie@icloud.com for the Zoom link.
URL:https://demvolctr.org/event/postcard-letter-writing-party-7/2025-03-29/
LOCATION:Online
CATEGORIES:Letter writing,Postcarding
ORGANIZER;CN="Democratic Volunteer Center (DVC)":MAILTO:info@demvolctr.org
END:VEVENT
BEGIN:VEVENT
DTSTART;TZID=America/Los_Angeles:20250531T100000
DTEND;TZID=America/Los_Angeles:20250531T120000
DTSTAMP:20260422T002348
CREATED:20250525T225323Z
LAST-MODIFIED:20250615T014145Z
UID:10003911-1748685600-1748692800@demvolctr.org
SUMMARY:Postcard/letter writing party
DESCRIPTION:Join Sue and Melissa’s virtual parties with other postcard and letter writers\, every Saturday from 10:00 a.m. to 12 noon Pacific time. This is a friendly group that shares political news and ideas as they write letters and postcards in support of Democratic candidates and causes. Email s.dinwiddie@icloud.com for the Zoom link.
URL:https://demvolctr.org/event/postcard-letter-writing-party-8/2025-05-31/
LOCATION:Online
CATEGORIES:Letter writing,Postcarding
ORGANIZER;CN="Democratic Volunteer Center (DVC)":MAILTO:info@demvolctr.org
END:VEVENT
BEGIN:VEVENT
DTSTART;TZID=America/Los_Angeles:20250607T100000
DTEND;TZID=America/Los_Angeles:20250607T120000
DTSTAMP:20260422T002348
CREATED:20250525T225323Z
LAST-MODIFIED:20250615T014145Z
UID:10003912-1749290400-1749297600@demvolctr.org
SUMMARY:Postcard/letter writing party
DESCRIPTION:Join Sue and Melissa’s virtual parties with other postcard and letter writers\, every Saturday from 10:00 a.m. to 12 noon Pacific time. This is a friendly group that shares political news and ideas as they write letters and postcards in support of Democratic candidates and causes. Email s.dinwiddie@icloud.com for the Zoom link.
URL:https://demvolctr.org/event/postcard-letter-writing-party-8/2025-06-07/
LOCATION:Online
CATEGORIES:Letter writing,Postcarding
ORGANIZER;CN="Democratic Volunteer Center (DVC)":MAILTO:info@demvolctr.org
END:VEVENT
BEGIN:VEVENT
DTSTART;TZID=America/Los_Angeles:20250621T100000
DTEND;TZID=America/Los_Angeles:20250621T120000
DTSTAMP:20260422T002348
CREATED:20250525T225323Z
LAST-MODIFIED:20250615T014145Z
UID:10003914-1750500000-1750507200@demvolctr.org
SUMMARY:Postcard/letter writing party
DESCRIPTION:Join Sue and Melissa’s virtual parties with other postcard and letter writers\, every Saturday from 10:00 a.m. to 12 noon Pacific time. This is a friendly group that shares political news and ideas as they write letters and postcards in support of Democratic candidates and causes. Email s.dinwiddie@icloud.com for the Zoom link.
URL:https://demvolctr.org/event/postcard-letter-writing-party-8/2025-06-21/
LOCATION:Online
CATEGORIES:Letter writing,Postcarding
ORGANIZER;CN="Democratic Volunteer Center (DVC)":MAILTO:info@demvolctr.org
END:VEVENT
BEGIN:VEVENT
DTSTART;TZID=America/Los_Angeles:20250624T180000
DTEND;TZID=America/Los_Angeles:20250624T200000
DTSTAMP:20260422T002348
CREATED:20250615T200023Z
LAST-MODIFIED:20250615T200025Z
UID:10004096-1750788000-1750795200@demvolctr.org
SUMMARY:Writing to voters at Mariya's in Mt View
DESCRIPTION:Write letters and postcards to register voters in key states\, to remind voters about upcoming elections\, and/or to inform them about the issues and candidates\, and any other activity that seems for that week the best way to increase Democratic voter turnout. Bring friends\, food to share if you can (it’s a potluck)\, and enthusiasm for writing! \n\n\n\nCan’t come to any of these? Pick up a package to write from home at your convenience: https://itsblueturn.com/pickup
URL:https://demvolctr.org/event/writing-to-voters-at-mariyas-in-mt-view/2025-06-24/
LOCATION:Private location\, See description to RSVP for address in\, CA
CATEGORIES:Letter writing,Outside Event
END:VEVENT
BEGIN:VEVENT
DTSTART;TZID=America/Los_Angeles:20250628T100000
DTEND;TZID=America/Los_Angeles:20250628T120000
DTSTAMP:20260422T002348
CREATED:20250525T225323Z
LAST-MODIFIED:20250615T014145Z
UID:10003915-1751104800-1751112000@demvolctr.org
SUMMARY:Postcard/letter writing party
DESCRIPTION:Join Sue and Melissa’s virtual parties with other postcard and letter writers\, every Saturday from 10:00 a.m. to 12 noon Pacific time. This is a friendly group that shares political news and ideas as they write letters and postcards in support of Democratic candidates and causes. Email s.dinwiddie@icloud.com for the Zoom link.
URL:https://demvolctr.org/event/postcard-letter-writing-party-8/2025-06-28/
LOCATION:Online
CATEGORIES:Letter writing,Postcarding
ORGANIZER;CN="Democratic Volunteer Center (DVC)":MAILTO:info@demvolctr.org
END:VEVENT
BEGIN:VEVENT
DTSTART;TZID=America/Los_Angeles:20250701T180000
DTEND;TZID=America/Los_Angeles:20250701T200000
DTSTAMP:20260422T002348
CREATED:20250615T200023Z
LAST-MODIFIED:20250615T200025Z
UID:10004097-1751392800-1751400000@demvolctr.org
SUMMARY:Writing to voters at Mariya's in Mt View
DESCRIPTION:Write letters and postcards to register voters in key states\, to remind voters about upcoming elections\, and/or to inform them about the issues and candidates\, and any other activity that seems for that week the best way to increase Democratic voter turnout. Bring friends\, food to share if you can (it’s a potluck)\, and enthusiasm for writing! \n\n\n\nCan’t come to any of these? Pick up a package to write from home at your convenience: https://itsblueturn.com/pickup
URL:https://demvolctr.org/event/writing-to-voters-at-mariyas-in-mt-view/2025-07-01/
LOCATION:Private location\, See description to RSVP for address in\, CA
CATEGORIES:Letter writing,Outside Event
END:VEVENT
BEGIN:VEVENT
DTSTART;TZID=America/Los_Angeles:20250705T100000
DTEND;TZID=America/Los_Angeles:20250705T120000
DTSTAMP:20260422T002348
CREATED:20250525T225323Z
LAST-MODIFIED:20250615T014145Z
UID:10004092-1751709600-1751716800@demvolctr.org
SUMMARY:Postcard/letter writing party
DESCRIPTION:Join Sue and Melissa’s virtual parties with other postcard and letter writers\, every Saturday from 10:00 a.m. to 12 noon Pacific time. This is a friendly group that shares political news and ideas as they write letters and postcards in support of Democratic candidates and causes. Email s.dinwiddie@icloud.com for the Zoom link.
URL:https://demvolctr.org/event/postcard-letter-writing-party-8/2025-07-05/
LOCATION:Online
CATEGORIES:Letter writing,Postcarding
ORGANIZER;CN="Democratic Volunteer Center (DVC)":MAILTO:info@demvolctr.org
END:VEVENT
BEGIN:VEVENT
DTSTART;TZID=America/Los_Angeles:20250712T100000
DTEND;TZID=America/Los_Angeles:20250712T120000
DTSTAMP:20260422T002348
CREATED:20250525T225323Z
LAST-MODIFIED:20250615T014145Z
UID:10004093-1752314400-1752321600@demvolctr.org
SUMMARY:Postcard/letter writing party
DESCRIPTION:Join Sue and Melissa’s virtual parties with other postcard and letter writers\, every Saturday from 10:00 a.m. to 12 noon Pacific time. This is a friendly group that shares political news and ideas as they write letters and postcards in support of Democratic candidates and causes. Email s.dinwiddie@icloud.com for the Zoom link.
URL:https://demvolctr.org/event/postcard-letter-writing-party-8/2025-07-12/
LOCATION:Online
CATEGORIES:Letter writing,Postcarding
ORGANIZER;CN="Democratic Volunteer Center (DVC)":MAILTO:info@demvolctr.org
END:VEVENT
BEGIN:VEVENT
DTSTART;TZID=America/Los_Angeles:20250715T180000
DTEND;TZID=America/Los_Angeles:20250715T200000
DTSTAMP:20260422T002348
CREATED:20250615T200023Z
LAST-MODIFIED:20250615T200025Z
UID:10004098-1752602400-1752609600@demvolctr.org
SUMMARY:Writing to voters at Mariya's in Mt View
DESCRIPTION:Write letters and postcards to register voters in key states\, to remind voters about upcoming elections\, and/or to inform them about the issues and candidates\, and any other activity that seems for that week the best way to increase Democratic voter turnout. Bring friends\, food to share if you can (it’s a potluck)\, and enthusiasm for writing! \n\n\n\nCan’t come to any of these? Pick up a package to write from home at your convenience: https://itsblueturn.com/pickup
URL:https://demvolctr.org/event/writing-to-voters-at-mariyas-in-mt-view/2025-07-15/
LOCATION:Private location\, See description to RSVP for address in\, CA
CATEGORIES:Letter writing,Outside Event
END:VEVENT
BEGIN:VEVENT
DTSTART;TZID=America/Los_Angeles:20250719T100000
DTEND;TZID=America/Los_Angeles:20250719T120000
DTSTAMP:20260422T002348
CREATED:20250525T225323Z
LAST-MODIFIED:20250615T014145Z
UID:10004094-1752919200-1752926400@demvolctr.org
SUMMARY:Postcard/letter writing party
DESCRIPTION:Join Sue and Melissa’s virtual parties with other postcard and letter writers\, every Saturday from 10:00 a.m. to 12 noon Pacific time. This is a friendly group that shares political news and ideas as they write letters and postcards in support of Democratic candidates and causes. Email s.dinwiddie@icloud.com for the Zoom link.
URL:https://demvolctr.org/event/postcard-letter-writing-party-8/2025-07-19/
LOCATION:Online
CATEGORIES:Letter writing,Postcarding
ORGANIZER;CN="Democratic Volunteer Center (DVC)":MAILTO:info@demvolctr.org
END:VEVENT
BEGIN:VEVENT
DTSTART;TZID=America/Los_Angeles:20250726T100000
DTEND;TZID=America/Los_Angeles:20250726T120000
DTSTAMP:20260422T002348
CREATED:20250525T225323Z
LAST-MODIFIED:20250615T014145Z
UID:10004095-1753524000-1753531200@demvolctr.org
SUMMARY:Postcard/letter writing party
DESCRIPTION:Join Sue and Melissa’s virtual parties with other postcard and letter writers\, every Saturday from 10:00 a.m. to 12 noon Pacific time. This is a friendly group that shares political news and ideas as they write letters and postcards in support of Democratic candidates and causes. Email s.dinwiddie@icloud.com for the Zoom link.
URL:https://demvolctr.org/event/postcard-letter-writing-party-8/2025-07-26/
LOCATION:Online
CATEGORIES:Letter writing,Postcarding
ORGANIZER;CN="Democratic Volunteer Center (DVC)":MAILTO:info@demvolctr.org
END:VEVENT
BEGIN:VEVENT
DTSTART;TZID=America/Los_Angeles:20250729T180000
DTEND;TZID=America/Los_Angeles:20250729T200000
DTSTAMP:20260422T002348
CREATED:20250615T200023Z
LAST-MODIFIED:20250615T200025Z
UID:10004099-1753812000-1753819200@demvolctr.org
SUMMARY:Writing to voters at Mariya's in Mt View
DESCRIPTION:Write letters and postcards to register voters in key states\, to remind voters about upcoming elections\, and/or to inform them about the issues and candidates\, and any other activity that seems for that week the best way to increase Democratic voter turnout. Bring friends\, food to share if you can (it’s a potluck)\, and enthusiasm for writing! \n\n\n\nCan’t come to any of these? Pick up a package to write from home at your convenience: https://itsblueturn.com/pickup
URL:https://demvolctr.org/event/writing-to-voters-at-mariyas-in-mt-view/2025-07-29/
LOCATION:Private location\, See description to RSVP for address in\, CA
CATEGORIES:Letter writing,Outside Event
END:VEVENT
BEGIN:VEVENT
DTSTART;TZID=America/Los_Angeles:20250802T100000
DTEND;TZID=America/Los_Angeles:20250802T120000
DTSTAMP:20260422T002348
CREATED:20250714T022046Z
LAST-MODIFIED:20250714T022316Z
UID:10004125-1754128800-1754136000@demvolctr.org
SUMMARY:Postcard/letter writing party
DESCRIPTION:Join Sue and Melissa’s virtual parties with other postcard and letter writers\, every Saturday from 10:00 a.m. to 12 noon Pacific time. This is a friendly group that shares political news and ideas as they write letters and postcards in support of Democratic candidates and causes. Email s.dinwiddie@icloud.com for the Zoom link.
URL:https://demvolctr.org/event/postcard-letter-writing-party-9/2025-08-02/
LOCATION:Online
CATEGORIES:Letter writing,Postcarding
ORGANIZER;CN="Democratic Volunteer Center (DVC)":MAILTO:info@demvolctr.org
END:VEVENT
BEGIN:VEVENT
DTSTART;TZID=America/Los_Angeles:20250805T180000
DTEND;TZID=America/Los_Angeles:20250805T200000
DTSTAMP:20260422T002348
CREATED:20250729T124536Z
LAST-MODIFIED:20250729T124726Z
UID:10004163-1754416800-1754424000@demvolctr.org
SUMMARY:Writing to voters at Mariya's in Mt. View
DESCRIPTION:Write letters and postcards with It’s Blue Turn to register voters in key states\, to remind voters about upcoming elections\, and/or to inform them about the issues and candidates\, and any other activity that seems for that week the best way to increase Democratic voter turnout. Bring friends\, food to share if you can (it’s a potluck)\, and enthusiasm for writing! \n\n\n\nCan’t come to any of these? Pick up a package to write from home at your convenience: https://itsblueturn.com/pickup
URL:https://demvolctr.org/event/writing-to-voters-at-mariyas-in-mt-view-2/2025-08-05/
LOCATION:Private location\, See description to RSVP for address in\, CA
CATEGORIES:Letter writing,Outside Event
END:VEVENT
BEGIN:VEVENT
DTSTART;TZID=America/Los_Angeles:20250809T100000
DTEND;TZID=America/Los_Angeles:20250809T120000
DTSTAMP:20260422T002348
CREATED:20250714T022046Z
LAST-MODIFIED:20250714T022316Z
UID:10004126-1754733600-1754740800@demvolctr.org
SUMMARY:Postcard/letter writing party
DESCRIPTION:Join Sue and Melissa’s virtual parties with other postcard and letter writers\, every Saturday from 10:00 a.m. to 12 noon Pacific time. This is a friendly group that shares political news and ideas as they write letters and postcards in support of Democratic candidates and causes. Email s.dinwiddie@icloud.com for the Zoom link.
URL:https://demvolctr.org/event/postcard-letter-writing-party-9/2025-08-09/
LOCATION:Online
CATEGORIES:Letter writing,Postcarding
ORGANIZER;CN="Democratic Volunteer Center (DVC)":MAILTO:info@demvolctr.org
END:VEVENT
END:VCALENDAR