BEGIN:VCALENDAR
VERSION:2.0
PRODID:-//Democratic Volunteer Center - ECPv6.15.17.1//NONSGML v1.0//EN
CALSCALE:GREGORIAN
METHOD:PUBLISH
X-WR-CALNAME:Democratic Volunteer Center
X-ORIGINAL-URL:https://demvolctr.org
X-WR-CALDESC:Events for Democratic Volunteer Center
REFRESH-INTERVAL;VALUE=DURATION:PT1H
X-Robots-Tag:noindex
X-PUBLISHED-TTL:PT1H
BEGIN:VTIMEZONE
TZID:America/Los_Angeles
BEGIN:DAYLIGHT
TZOFFSETFROM:-0800
TZOFFSETTO:-0700
TZNAME:PDT
DTSTART:20240310T100000
END:DAYLIGHT
BEGIN:STANDARD
TZOFFSETFROM:-0700
TZOFFSETTO:-0800
TZNAME:PST
DTSTART:20241103T090000
END:STANDARD
BEGIN:DAYLIGHT
TZOFFSETFROM:-0800
TZOFFSETTO:-0700
TZNAME:PDT
DTSTART:20250309T100000
END:DAYLIGHT
BEGIN:STANDARD
TZOFFSETFROM:-0700
TZOFFSETTO:-0800
TZNAME:PST
DTSTART:20251102T090000
END:STANDARD
BEGIN:DAYLIGHT
TZOFFSETFROM:-0800
TZOFFSETTO:-0700
TZNAME:PDT
DTSTART:20260308T100000
END:DAYLIGHT
BEGIN:STANDARD
TZOFFSETFROM:-0700
TZOFFSETTO:-0800
TZNAME:PST
DTSTART:20261101T090000
END:STANDARD
END:VTIMEZONE
BEGIN:VEVENT
DTSTART;TZID=America/Los_Angeles:20251026T080000
DTEND;TZID=America/Los_Angeles:20251026T100000
DTSTAMP:20260422T213200
CREATED:20251004T223202Z
LAST-MODIFIED:20251004T223204Z
UID:10004257-1761465600-1761472800@demvolctr.org
SUMMARY:Phone bank for Pennsylvania
DESCRIPTION:Join Turn PA Blue as we make calls to Pennsylvania for the 2025 General Election! We will be making calls in support of all Democrats up and down the ballot\, including the 3 Pennsylvania Supreme Court retention races. \n\n\n\nWe’ll call using the Scale to Win auto-dialer\, a computer program that dials FOR YOU! It’s easy to use and allows us to have more meaningful conversations. All you need is your computer & internet access. This phone bank is held on Zoom. At the start of the shift\, we will review the script and provide dialer training to anyone who needs it. Then we’ll make calls together until the end of the shift.
URL:https://demvolctr.org/event/phone-bank-for-pennsylvania-2/
LOCATION:Online
CATEGORIES:Outside Event,Phone Bank
END:VEVENT
BEGIN:VEVENT
DTSTART;TZID=America/Los_Angeles:20251026T120000
DTEND;TZID=America/Los_Angeles:20251026T140000
DTSTAMP:20260422T213200
CREATED:20251004T184825Z
LAST-MODIFIED:20251004T184826Z
UID:10004247-1761480000-1761487200@demvolctr.org
SUMMARY:Phone bank for Prop. 50 in Spanish
DESCRIPTION:Join the California Democratic Party‘s virtual phone banks and help stop the Trump / MAGA agenda. Trump is trying to rig the midterm elections\, and passing Proposition 50 is the best chance we have of taking back Congress next year. We’re making calls 6 days per week in English plus 2 days per week in Spanish: \n\n\n\n\nSundays 12:00pm – 2:00pm PT\n\n\n\nThursdays 6:00pm – 8:00pm PT\n\n\n\n\nWe’ll gather on Zoom. We’ll have a short training at the beginning of each shift on using the Scale to Win dialer. Join us as often as you can\, encourage your friends to come\, and help save our country!
URL:https://demvolctr.org/event/phone-bank-for-prop-50-in-spanish/2025-10-26/
LOCATION:Online
CATEGORIES:Outside Event,Phone Bank
ORGANIZER;CN="California Democratic Party":MAILTO:info@cadem.org
END:VEVENT
BEGIN:VEVENT
DTSTART;TZID=America/Los_Angeles:20251026T150000
DTEND;TZID=America/Los_Angeles:20251026T170000
DTSTAMP:20260422T213200
CREATED:20251004T174144Z
LAST-MODIFIED:20251004T174145Z
UID:10004214-1761490800-1761498000@demvolctr.org
SUMMARY:Phone bank for Prop. 50
DESCRIPTION:Join the California Democratic Party‘s virtual phone banks and help stop the Trump / MAGA agenda. Trump is trying to rig the midterm elections\, and passing Proposition 50 is the best chance we have of taking back Congress next year. We’re making calls 6 days per week.  \n\n\n\nWe’ll gather on Zoom. We’ll have a short training at the beginning of each shift on using the Scale to Win dialer. Join us as often as you can\, encourage your friends to come\, and help save our country!
URL:https://demvolctr.org/event/phone-bank-for-prop-50/2025-10-26/
LOCATION:Online
CATEGORIES:Outside Event,Phone Bank
ORGANIZER;CN="California Democratic Party":MAILTO:info@cadem.org
END:VEVENT
END:VCALENDAR