BEGIN:VCALENDAR
VERSION:2.0
PRODID:-//Democratic Volunteer Center - ECPv6.15.17.1//NONSGML v1.0//EN
CALSCALE:GREGORIAN
METHOD:PUBLISH
X-WR-CALNAME:Democratic Volunteer Center
X-ORIGINAL-URL:https://demvolctr.org
X-WR-CALDESC:Events for Democratic Volunteer Center
REFRESH-INTERVAL;VALUE=DURATION:PT1H
X-Robots-Tag:noindex
X-PUBLISHED-TTL:PT1H
BEGIN:VTIMEZONE
TZID:America/Los_Angeles
BEGIN:DAYLIGHT
TZOFFSETFROM:-0800
TZOFFSETTO:-0700
TZNAME:PDT
DTSTART:20250309T100000
END:DAYLIGHT
BEGIN:STANDARD
TZOFFSETFROM:-0700
TZOFFSETTO:-0800
TZNAME:PST
DTSTART:20251102T090000
END:STANDARD
BEGIN:DAYLIGHT
TZOFFSETFROM:-0800
TZOFFSETTO:-0700
TZNAME:PDT
DTSTART:20260308T100000
END:DAYLIGHT
BEGIN:STANDARD
TZOFFSETFROM:-0700
TZOFFSETTO:-0800
TZNAME:PST
DTSTART:20261101T090000
END:STANDARD
BEGIN:DAYLIGHT
TZOFFSETFROM:-0800
TZOFFSETTO:-0700
TZNAME:PDT
DTSTART:20270314T100000
END:DAYLIGHT
BEGIN:STANDARD
TZOFFSETFROM:-0700
TZOFFSETTO:-0800
TZNAME:PST
DTSTART:20271107T090000
END:STANDARD
END:VTIMEZONE
BEGIN:VEVENT
DTSTART;TZID=America/Los_Angeles:20260426T130000
DTEND;TZID=America/Los_Angeles:20260426T150000
DTSTAMP:20260424T100314
CREATED:20260330T004322Z
LAST-MODIFIED:20260330T004324Z
UID:10004463-1777208400-1777215600@demvolctr.org
SUMMARY:Phone bank for the House (SCCDP)
DESCRIPTION:Join the Santa Clara County Democratic Party to help flip the House! We will make calls to the Central Valley for Adam Gray in CD-13. Once you RSVP\,  you will receive a confirmation email with the Zoom link to join the phone bank session.
URL:https://demvolctr.org/event/phone-bank-for-the-house-sccdp-2/2026-04-26/
LOCATION:Online
CATEGORIES:Outside Event,Phone Bank
ORGANIZER;CN="Santa Clara County Democratic Party":MAILTO:info@sccdp.org
END:VEVENT
BEGIN:VEVENT
DTSTART;TZID=America/Los_Angeles:20260426T140000
DTEND;TZID=America/Los_Angeles:20260426T160000
DTSTAMP:20260424T100314
CREATED:20260414T043829Z
LAST-MODIFIED:20260414T045252Z
UID:10004470-1777212000-1777219200@demvolctr.org
SUMMARY:Cheese tasting for Wisconsin (SW)
DESCRIPTION:Join States Win South Bay for a cheese tasting party in Mountain View to support Ryan Spaude\, who’s running for reelection in Wisconsin’s 89th Assembly District. We’ll hear briefly from him and learn about why this race is important. Help send real support to Wisconsin where it matters most! \n\n\n\nIn this lively social fundraiser\, you’ll sample six mystery cheeses with traditional Wisconsin fixings and beer\, compare notes\, and guess which cheese is the Wisconsin champion. (Best guessers get prizes.) \n\n\n\nSuggested donation: $50 per person.
URL:https://demvolctr.org/event/cheese-tasting-for-wisconsin-sw/
LOCATION:Mountain View\, CA\, Mountain View\, CA\, United States
CATEGORIES:Fundraiser,Outside Event
END:VEVENT
END:VCALENDAR