BEGIN:VCALENDAR
VERSION:2.0
PRODID:-//Democratic Volunteer Center - ECPv6.15.17.1//NONSGML v1.0//EN
CALSCALE:GREGORIAN
METHOD:PUBLISH
X-WR-CALNAME:Democratic Volunteer Center
X-ORIGINAL-URL:https://demvolctr.org
X-WR-CALDESC:Events for Democratic Volunteer Center
REFRESH-INTERVAL;VALUE=DURATION:PT1H
X-Robots-Tag:noindex
X-PUBLISHED-TTL:PT1H
BEGIN:VTIMEZONE
TZID:America/Los_Angeles
BEGIN:DAYLIGHT
TZOFFSETFROM:-0800
TZOFFSETTO:-0700
TZNAME:PDT
DTSTART:20250309T100000
END:DAYLIGHT
BEGIN:STANDARD
TZOFFSETFROM:-0700
TZOFFSETTO:-0800
TZNAME:PST
DTSTART:20251102T090000
END:STANDARD
BEGIN:DAYLIGHT
TZOFFSETFROM:-0800
TZOFFSETTO:-0700
TZNAME:PDT
DTSTART:20260308T100000
END:DAYLIGHT
BEGIN:STANDARD
TZOFFSETFROM:-0700
TZOFFSETTO:-0800
TZNAME:PST
DTSTART:20261101T090000
END:STANDARD
BEGIN:DAYLIGHT
TZOFFSETFROM:-0800
TZOFFSETTO:-0700
TZNAME:PDT
DTSTART:20270314T100000
END:DAYLIGHT
BEGIN:STANDARD
TZOFFSETFROM:-0700
TZOFFSETTO:-0800
TZNAME:PST
DTSTART:20271107T090000
END:STANDARD
END:VTIMEZONE
BEGIN:VEVENT
DTSTART;TZID=America/Los_Angeles:20260509T093000
DTEND;TZID=America/Los_Angeles:20260509T133000
DTSTAMP:20260422T121427
CREATED:20260419T191208Z
LAST-MODIFIED:20260419T191209Z
UID:10004476-1778319000-1778333400@demvolctr.org
SUMMARY:Knock doors in Los Banos (SLP)
DESCRIPTION:Join Swing Left for a Ground Truth canvass—designed to help Democrats rebuild trust\, win tough races\, and flip the House! We’re heading to Los Banos in the Central Valley\, in California’s 13th Congressional District (CA-13). In 2024\, Adam Gray flipped the seat by only 187 votes. You’ll help hold CA-13 in 2026\, as we take back the House majority! \n\n\n\nIf you need a ride or can drive others\, let us know in the “Select your transportation” field on the sign-up page. Carpools will leave Peninsula location.
URL:https://demvolctr.org/event/knock-doors-in-los-banos-slp/
LOCATION:Los Banos\, CA\, Los Banos\, CA\, United States
CATEGORIES:Canvass,Outside Event
ORGANIZER;CN="Swing Left Peninsula":MAILTO:info@swingleftpeninsula.org
END:VEVENT
BEGIN:VEVENT
DTSTART;TZID=America/Los_Angeles:20260509T140000
DTEND;TZID=America/Los_Angeles:20260509T160000
DTSTAMP:20260422T121427
CREATED:20260414T045438Z
LAST-MODIFIED:20260414T045440Z
UID:10004471-1778335200-1778342400@demvolctr.org
SUMMARY:Cinco de Mayo party for Wisconsin (SW)
DESCRIPTION:Join States Win South Bay for a Cinco de Mayo party in Saratoga. All proceeds will benefit Ryan Spaude\, who’s running for reelection in Wisconsin’s 89th Assembly District. Learn about this race and why Dems must win it. \n\n\n\nThis festive party will include lots of delicious Mexican food\, including vegetarian items and of course homemade margaritas to quench your thirst. Refreshing non-alcoholic beverages will also be served. \n\n\n\nSuggested donation: $50 per person.
URL:https://demvolctr.org/event/cinco-de-mayo-party-for-wisconsin-sw/
LOCATION:Saratoga\, CA\, Saratoga\, CA\, United States
CATEGORIES:Fundraiser,Outside Event
END:VEVENT
END:VCALENDAR