BEGIN:VCALENDAR
VERSION:2.0
PRODID:-//Democratic Volunteer Center - ECPv6.15.17.1//NONSGML v1.0//EN
CALSCALE:GREGORIAN
METHOD:PUBLISH
X-WR-CALNAME:Democratic Volunteer Center
X-ORIGINAL-URL:https://demvolctr.org
X-WR-CALDESC:Events for Democratic Volunteer Center
REFRESH-INTERVAL;VALUE=DURATION:PT1H
X-Robots-Tag:noindex
X-PUBLISHED-TTL:PT1H
BEGIN:VTIMEZONE
TZID:America/Los_Angeles
BEGIN:DAYLIGHT
TZOFFSETFROM:-0800
TZOFFSETTO:-0700
TZNAME:PDT
DTSTART:20250309T100000
END:DAYLIGHT
BEGIN:STANDARD
TZOFFSETFROM:-0700
TZOFFSETTO:-0800
TZNAME:PST
DTSTART:20251102T090000
END:STANDARD
BEGIN:DAYLIGHT
TZOFFSETFROM:-0800
TZOFFSETTO:-0700
TZNAME:PDT
DTSTART:20260308T100000
END:DAYLIGHT
BEGIN:STANDARD
TZOFFSETFROM:-0700
TZOFFSETTO:-0800
TZNAME:PST
DTSTART:20261101T090000
END:STANDARD
BEGIN:DAYLIGHT
TZOFFSETFROM:-0800
TZOFFSETTO:-0700
TZNAME:PDT
DTSTART:20270314T100000
END:DAYLIGHT
BEGIN:STANDARD
TZOFFSETFROM:-0700
TZOFFSETTO:-0800
TZNAME:PST
DTSTART:20271107T090000
END:STANDARD
END:VTIMEZONE
BEGIN:VEVENT
DTSTART;TZID=America/Los_Angeles:20260115T160000
DTEND;TZID=America/Los_Angeles:20260115T190000
DTSTAMP:20260423T034155
CREATED:20260112T042313Z
LAST-MODIFIED:20260112T042514Z
UID:10004293-1768492800-1768503600@demvolctr.org
SUMMARY:Hands Off Our Healthcare Phone Bank
DESCRIPTION:Join Team Pelosi and the Grassroots Democrats HQ in calling voters across California and urging them to save our healthcare! \n\n\n\nIf this is your first time phonebanking\, we will have a full training to get you set up and ready to call voters. We have two consecutive sessions on Thursdays: \n\n\n\n\n4:00pm – 5:30pm PST\n\n\n\n5:30pm – 7:00pm PST
URL:https://demvolctr.org/event/hands-off-our-healthcare-phone-bank-2/2026-01-15/
LOCATION:Online
CATEGORIES:Outside Event,Phone Bank
END:VEVENT
END:VCALENDAR