BEGIN:VCALENDAR
VERSION:2.0
PRODID:-//Democratic Volunteer Center - ECPv6.15.17.1//NONSGML v1.0//EN
CALSCALE:GREGORIAN
METHOD:PUBLISH
X-WR-CALNAME:Democratic Volunteer Center
X-ORIGINAL-URL:https://demvolctr.org
X-WR-CALDESC:Events for Democratic Volunteer Center
REFRESH-INTERVAL;VALUE=DURATION:PT1H
X-Robots-Tag:noindex
X-PUBLISHED-TTL:PT1H
BEGIN:VTIMEZONE
TZID:America/Los_Angeles
BEGIN:DAYLIGHT
TZOFFSETFROM:-0800
TZOFFSETTO:-0700
TZNAME:PDT
DTSTART:20230312T100000
END:DAYLIGHT
BEGIN:STANDARD
TZOFFSETFROM:-0700
TZOFFSETTO:-0800
TZNAME:PST
DTSTART:20231105T090000
END:STANDARD
BEGIN:DAYLIGHT
TZOFFSETFROM:-0800
TZOFFSETTO:-0700
TZNAME:PDT
DTSTART:20240310T100000
END:DAYLIGHT
BEGIN:STANDARD
TZOFFSETFROM:-0700
TZOFFSETTO:-0800
TZNAME:PST
DTSTART:20241103T090000
END:STANDARD
BEGIN:DAYLIGHT
TZOFFSETFROM:-0800
TZOFFSETTO:-0700
TZNAME:PDT
DTSTART:20250309T100000
END:DAYLIGHT
BEGIN:STANDARD
TZOFFSETFROM:-0700
TZOFFSETTO:-0800
TZNAME:PST
DTSTART:20251102T090000
END:STANDARD
END:VTIMEZONE
BEGIN:VEVENT
DTSTART;TZID=America/Los_Angeles:20240921T140000
DTEND;TZID=America/Los_Angeles:20240921T160000
DTSTAMP:20260425T073429
CREATED:20240913T194438Z
LAST-MODIFIED:20240913T194520Z
UID:10003560-1726927200-1726934400@demvolctr.org
SUMMARY:Postcards & Podcasts
DESCRIPTION:We need you to come out and support the Harris Walz ticket and Democratic candidates in the House and Senate. Bring friends and meet new ones as we write postcards to send to voters in key swing states\, reminding them that their voice and vote matter.   To make things more interesting\, we’ll choose a couple of juicy podcasts that we can listen to while we write\, and we’ll draw the name of one lucky postcard writer to win a Harris Walz T-shirt!
URL:https://demvolctr.org/event/postcards-podcasts/
LOCATION:DVC Headquarters\, 2460 E Charleston Road\, Mountain View\, CA\, 94043\, United States
CATEGORIES:Letter writing,Postcarding
ORGANIZER;CN="Democratic Volunteer Center (DVC)":MAILTO:info@demvolctr.org
END:VEVENT
END:VCALENDAR