BEGIN:VCALENDAR
VERSION:2.0
PRODID:-//Democratic Volunteer Center - ECPv6.15.17.1//NONSGML v1.0//EN
CALSCALE:GREGORIAN
METHOD:PUBLISH
X-WR-CALNAME:Democratic Volunteer Center
X-ORIGINAL-URL:https://demvolctr.org
X-WR-CALDESC:Events for Democratic Volunteer Center
REFRESH-INTERVAL;VALUE=DURATION:PT1H
X-Robots-Tag:noindex
X-PUBLISHED-TTL:PT1H
BEGIN:VTIMEZONE
TZID:America/Los_Angeles
BEGIN:DAYLIGHT
TZOFFSETFROM:-0800
TZOFFSETTO:-0700
TZNAME:PDT
DTSTART:20250309T100000
END:DAYLIGHT
BEGIN:STANDARD
TZOFFSETFROM:-0700
TZOFFSETTO:-0800
TZNAME:PST
DTSTART:20251102T090000
END:STANDARD
BEGIN:DAYLIGHT
TZOFFSETFROM:-0800
TZOFFSETTO:-0700
TZNAME:PDT
DTSTART:20260308T100000
END:DAYLIGHT
BEGIN:STANDARD
TZOFFSETFROM:-0700
TZOFFSETTO:-0800
TZNAME:PST
DTSTART:20261101T090000
END:STANDARD
BEGIN:DAYLIGHT
TZOFFSETFROM:-0800
TZOFFSETTO:-0700
TZNAME:PDT
DTSTART:20270314T100000
END:DAYLIGHT
BEGIN:STANDARD
TZOFFSETFROM:-0700
TZOFFSETTO:-0800
TZNAME:PST
DTSTART:20271107T090000
END:STANDARD
END:VTIMEZONE
BEGIN:VEVENT
DTSTART;TZID=America/Los_Angeles:20260620T093000
DTEND;TZID=America/Los_Angeles:20260620T130000
DTSTAMP:20260421T000504
CREATED:20260419T202958Z
LAST-MODIFIED:20260419T202959Z
UID:10004480-1781947800-1781960400@demvolctr.org
SUMMARY:Knock on doors in Modesto (SLP)
DESCRIPTION:Join Swing Left Peninsula in going door-to-door to talk to voters in Modesto in the Central Valley\, in California’s 13th Congressional District (CA-13). In 2024 Adam Gray flipped this House seat by only 187 votes. Let’s talk to voters now to hold CA-13 in 2026\, as we take back the House majority! \n\n\n\nIf you need a ride\, we may have carpools available. If you want to drive\, please let us know.
URL:https://demvolctr.org/event/knock-on-doors-in-modesto-slp/2026-06-20/
LOCATION:Modesto\, CA\, Modesto\, CA\, United States
CATEGORIES:Canvass,Outside Event
ORGANIZER;CN="Swing Left Peninsula":MAILTO:info@swingleftpeninsula.org
END:VEVENT
BEGIN:VEVENT
DTSTART;TZID=America/Los_Angeles:20260626T093000
DTEND;TZID=America/Los_Angeles:20260628T130000
DTSTAMP:20260421T000504
CREATED:20260420T044237Z
LAST-MODIFIED:20260420T044238Z
UID:10004481-1782466200-1782651600@demvolctr.org
SUMMARY:Deep canvassing in Fresno (BAC)
DESCRIPTION:Join the Bay Area Coalition in going door to door to talk to voters in Fresno in Congressional District 22 (CA-22). We’ll employ deep canvassing techniques such as active listening to learn which issues are important to them. Let’s build the grassroots power Democrats need to win in 2026! \n\n\n\nOnce you’ve signed up\, a Bay Area Coalition volunteer will contact you and help with carpools and/or housing options. A $100 stipend a day is available to offset the cost of gas and lodging.
URL:https://demvolctr.org/event/deep-canvassing-in-fresno-bac/
LOCATION:San Jose 95123\, San Jose\, CA\, 95123\, United States
CATEGORIES:Canvass,Outside Event
END:VEVENT
END:VCALENDAR