BEGIN:VCALENDAR
VERSION:2.0
PRODID:-//Democratic Volunteer Center - ECPv6.15.17.1//NONSGML v1.0//EN
CALSCALE:GREGORIAN
METHOD:PUBLISH
X-WR-CALNAME:Democratic Volunteer Center
X-ORIGINAL-URL:https://demvolctr.org
X-WR-CALDESC:Events for Democratic Volunteer Center
REFRESH-INTERVAL;VALUE=DURATION:PT1H
X-Robots-Tag:noindex
X-PUBLISHED-TTL:PT1H
BEGIN:VTIMEZONE
TZID:America/Los_Angeles
BEGIN:DAYLIGHT
TZOFFSETFROM:-0800
TZOFFSETTO:-0700
TZNAME:PDT
DTSTART:20250309T100000
END:DAYLIGHT
BEGIN:STANDARD
TZOFFSETFROM:-0700
TZOFFSETTO:-0800
TZNAME:PST
DTSTART:20251102T090000
END:STANDARD
BEGIN:DAYLIGHT
TZOFFSETFROM:-0800
TZOFFSETTO:-0700
TZNAME:PDT
DTSTART:20260308T100000
END:DAYLIGHT
BEGIN:STANDARD
TZOFFSETFROM:-0700
TZOFFSETTO:-0800
TZNAME:PST
DTSTART:20261101T090000
END:STANDARD
BEGIN:DAYLIGHT
TZOFFSETFROM:-0800
TZOFFSETTO:-0700
TZNAME:PDT
DTSTART:20270314T100000
END:DAYLIGHT
BEGIN:STANDARD
TZOFFSETFROM:-0700
TZOFFSETTO:-0800
TZNAME:PST
DTSTART:20271107T090000
END:STANDARD
END:VTIMEZONE
BEGIN:VEVENT
DTSTART;TZID=America/Los_Angeles:20260515T090000
DTEND;TZID=America/Los_Angeles:20260515T150000
DTSTAMP:20260420T102920
CREATED:20260419T185611Z
LAST-MODIFIED:20260419T185748Z
UID:10004474-1778835600-1778857200@demvolctr.org
SUMMARY:Knock on doors in Merced (BAC)
DESCRIPTION:Join the Bay Area Coalition and the Santa Clara County Democratic Party to knock on doors in Congressional District CA-13. We’re heading to Merced to canvass for Democrat Adam Gray to keep him in the House seat. You’ll be helping to build the grassroots power Democrats need to win in 2026 and to defend democracy long term!  \n\n\n\nIn the week before the canvass\, you will receive an email and a phone call from the SCCDP/BAC volunteer canvass team with all the details about your canvass\, including location specifics.
URL:https://demvolctr.org/event/knock-on-doors-in-merced-bac-2/2026-05-15/
LOCATION:San Jose 95128\, San Jose\, CA\, 95128\, United States
CATEGORIES:Canvass,Outside Event
END:VEVENT
BEGIN:VEVENT
DTSTART;TZID=America/Los_Angeles:20260516T090000
DTEND;TZID=America/Los_Angeles:20260516T150000
DTSTAMP:20260420T102920
CREATED:20260419T185611Z
LAST-MODIFIED:20260419T185748Z
UID:10004475-1778922000-1778943600@demvolctr.org
SUMMARY:Knock on doors in Merced (BAC)
DESCRIPTION:Join the Bay Area Coalition and the Santa Clara County Democratic Party to knock on doors in Congressional District CA-13. We’re heading to Merced to canvass for Democrat Adam Gray to keep him in the House seat. You’ll be helping to build the grassroots power Democrats need to win in 2026 and to defend democracy long term!  \n\n\n\nIn the week before the canvass\, you will receive an email and a phone call from the SCCDP/BAC volunteer canvass team with all the details about your canvass\, including location specifics.
URL:https://demvolctr.org/event/knock-on-doors-in-merced-bac-2/2026-05-16/
LOCATION:San Jose 95128\, San Jose\, CA\, 95128\, United States
CATEGORIES:Canvass,Outside Event
END:VEVENT
END:VCALENDAR