BEGIN:VCALENDAR
VERSION:2.0
PRODID:-//Democratic Volunteer Center - ECPv6.15.17.1//NONSGML v1.0//EN
CALSCALE:GREGORIAN
METHOD:PUBLISH
X-WR-CALNAME:Democratic Volunteer Center
X-ORIGINAL-URL:https://demvolctr.org
X-WR-CALDESC:Events for Democratic Volunteer Center
REFRESH-INTERVAL;VALUE=DURATION:PT1H
X-Robots-Tag:noindex
X-PUBLISHED-TTL:PT1H
BEGIN:VTIMEZONE
TZID:America/Los_Angeles
BEGIN:DAYLIGHT
TZOFFSETFROM:-0800
TZOFFSETTO:-0700
TZNAME:PDT
DTSTART:20240310T100000
END:DAYLIGHT
BEGIN:STANDARD
TZOFFSETFROM:-0700
TZOFFSETTO:-0800
TZNAME:PST
DTSTART:20241103T090000
END:STANDARD
BEGIN:DAYLIGHT
TZOFFSETFROM:-0800
TZOFFSETTO:-0700
TZNAME:PDT
DTSTART:20250309T100000
END:DAYLIGHT
BEGIN:STANDARD
TZOFFSETFROM:-0700
TZOFFSETTO:-0800
TZNAME:PST
DTSTART:20251102T090000
END:STANDARD
BEGIN:DAYLIGHT
TZOFFSETFROM:-0800
TZOFFSETTO:-0700
TZNAME:PDT
DTSTART:20260308T100000
END:DAYLIGHT
BEGIN:STANDARD
TZOFFSETFROM:-0700
TZOFFSETTO:-0800
TZNAME:PST
DTSTART:20261101T090000
END:STANDARD
END:VTIMEZONE
BEGIN:VEVENT
DTSTART;TZID=America/Los_Angeles:20250218T190000
DTEND;TZID=America/Los_Angeles:20250218T200000
DTSTAMP:20260421T061439
CREATED:20250201T194417Z
LAST-MODIFIED:20250203T142339Z
UID:10003878-1739905200-1739908800@demvolctr.org
SUMMARY:Fixin' SMC Measure A forum
DESCRIPTION:Join Fixin’ San Mateo County for an educational forum on the pros and cons of San Mateo County Measure A\, which appears on the March 4 special election ballot. This measure would grant the Board of Supervisors authority to remove an elected Sheriff from office for cause by a four-fifths vote after written notice and an opportunity to be heard. It would expire December 2028. \n\n\n\nThe proposed charter amendment is in response to a report by retired Judge LaDoris Cordell that sustained 12 of 15 human resources complaints against the Sheriff and her Chief of Staff. For more information\, see the League of Women Voters’ in depth analysis.
URL:https://demvolctr.org/event/fixin-smc-measure-a-forum/
LOCATION:Online
CATEGORIES:Forum,Outside Event
END:VEVENT
END:VCALENDAR