BEGIN:VCALENDAR
VERSION:2.0
PRODID:-//Democratic Volunteer Center - ECPv6.15.17.1//NONSGML v1.0//EN
CALSCALE:GREGORIAN
METHOD:PUBLISH
X-ORIGINAL-URL:https://demvolctr.org
X-WR-CALDESC:Events for Democratic Volunteer Center
REFRESH-INTERVAL;VALUE=DURATION:PT1H
X-Robots-Tag:noindex
X-PUBLISHED-TTL:PT1H
BEGIN:VTIMEZONE
TZID:America/Los_Angeles
BEGIN:DAYLIGHT
TZOFFSETFROM:-0800
TZOFFSETTO:-0700
TZNAME:PDT
DTSTART:20240310T100000
END:DAYLIGHT
BEGIN:STANDARD
TZOFFSETFROM:-0700
TZOFFSETTO:-0800
TZNAME:PST
DTSTART:20241103T090000
END:STANDARD
BEGIN:DAYLIGHT
TZOFFSETFROM:-0800
TZOFFSETTO:-0700
TZNAME:PDT
DTSTART:20250309T100000
END:DAYLIGHT
BEGIN:STANDARD
TZOFFSETFROM:-0700
TZOFFSETTO:-0800
TZNAME:PST
DTSTART:20251102T090000
END:STANDARD
BEGIN:DAYLIGHT
TZOFFSETFROM:-0800
TZOFFSETTO:-0700
TZNAME:PDT
DTSTART:20260308T100000
END:DAYLIGHT
BEGIN:STANDARD
TZOFFSETFROM:-0700
TZOFFSETTO:-0800
TZNAME:PST
DTSTART:20261101T090000
END:STANDARD
END:VTIMEZONE
BEGIN:VEVENT
DTSTART;TZID=America/Los_Angeles:20250426T100000
DTEND;TZID=America/Los_Angeles:20250426T120000
DTSTAMP:20260424T034223
CREATED:20250417T125041Z
LAST-MODIFIED:20250417T125043Z
UID:10003903-1745661600-1745668800@demvolctr.org
SUMMARY:Golden Gate Bridge walk (SD)
DESCRIPTION:Join Sister District for a walk across the Golden Gate Bridge to support the New Virginia Majority Education Fund. It’s a local power-building organization that benefits working-class communities of color in Virginia and organizes year-round for racial\, economic\, and environmental justice through political education\, mass-scale voter outreach\, mobilization\, and leadership development. \n\n\n\nRequested donation: $25.25.
URL:https://demvolctr.org/event/golden-gate-bridge-walk-sd/
LOCATION:Golden Gate Bridge Welcome Center\, Golden Gate Bridge Plaza\, San Francisco\, CA\, 94129\, United States
CATEGORIES:Fundraiser,Outside Event
END:VEVENT
END:VCALENDAR