BEGIN:VCALENDAR
VERSION:2.0
PRODID:-//Democratic Volunteer Center - ECPv6.15.17.1//NONSGML v1.0//EN
CALSCALE:GREGORIAN
METHOD:PUBLISH
X-ORIGINAL-URL:https://demvolctr.org
X-WR-CALDESC:Events for Democratic Volunteer Center
REFRESH-INTERVAL;VALUE=DURATION:PT1H
X-Robots-Tag:noindex
X-PUBLISHED-TTL:PT1H
BEGIN:VTIMEZONE
TZID:America/Los_Angeles
BEGIN:DAYLIGHT
TZOFFSETFROM:-0800
TZOFFSETTO:-0700
TZNAME:PDT
DTSTART:20220313T100000
END:DAYLIGHT
BEGIN:STANDARD
TZOFFSETFROM:-0700
TZOFFSETTO:-0800
TZNAME:PST
DTSTART:20221106T090000
END:STANDARD
BEGIN:DAYLIGHT
TZOFFSETFROM:-0800
TZOFFSETTO:-0700
TZNAME:PDT
DTSTART:20230312T100000
END:DAYLIGHT
BEGIN:STANDARD
TZOFFSETFROM:-0700
TZOFFSETTO:-0800
TZNAME:PST
DTSTART:20231105T090000
END:STANDARD
BEGIN:DAYLIGHT
TZOFFSETFROM:-0800
TZOFFSETTO:-0700
TZNAME:PDT
DTSTART:20240310T100000
END:DAYLIGHT
BEGIN:STANDARD
TZOFFSETFROM:-0700
TZOFFSETTO:-0800
TZNAME:PST
DTSTART:20241103T090000
END:STANDARD
BEGIN:DAYLIGHT
TZOFFSETFROM:-0800
TZOFFSETTO:-0700
TZNAME:PDT
DTSTART:20250309T100000
END:DAYLIGHT
BEGIN:STANDARD
TZOFFSETFROM:-0700
TZOFFSETTO:-0800
TZNAME:PST
DTSTART:20251102T090000
END:STANDARD
END:VTIMEZONE
BEGIN:VEVENT
DTSTART;TZID=America/Los_Angeles:20240825T140000
DTEND;TZID=America/Los_Angeles:20240825T160000
DTSTAMP:20260422T053452
CREATED:20240629T172117Z
LAST-MODIFIED:20240629T172119Z
UID:10003432-1724594400-1724601600@demvolctr.org
SUMMARY:Chocolate tasting for Brittney Miller (SD)
DESCRIPTION:Join Sister District South Bay on this gastronomical journey at a private home in Menlo Park. We will taste delicious chocolates\, learn about cacao and support our candidate\, Brittney Miller\, running for Nevada House District 5. This wonderful tasting will feature: \n\n\n\n\nHand-crafted bars from chocolate makers in the 2024 swing states\n\n\n\nPalate-pleasing bars from woman-owned / inspired chocolate makers\n\n\n\nHow chocolate is made\, from bean-to-bar\n\n\n\nFriendly Sister District members and volunteers\n\n\n\n\nTicket price: $45 per person.
URL:https://demvolctr.org/event/chocolate-tasting-for-brittney-miller-sd/
LOCATION:Private location\, See description to RSVP for address in\, CA
CATEGORIES:Fundraiser,Outside Event
END:VEVENT
BEGIN:VEVENT
DTSTART;TZID=America/Los_Angeles:20240802T190000
DTEND;TZID=America/Los_Angeles:20240802T210000
DTSTAMP:20260422T053452
CREATED:20240726T132017Z
LAST-MODIFIED:20240726T132018Z
UID:10003454-1722625200-1722632400@demvolctr.org
SUMMARY:Party to keep PA blue (SD)
DESCRIPTION:Join Sister District CA Peninsula for a party in support of state Rep. Mandy Steele of Pennsylvania. Mandy\, who will be joining us IN PERSON\, must win for Democrats to retain control of the Pennsylvania House! You’ll enjoy sangria and paella prepared onsite in a beautiful home and garden in Hillsborough. \n\n\n\nSuggested donation: $50 per person\, or $20 for those under 30.
URL:https://demvolctr.org/event/party-to-keep-pa-blue-sd/
LOCATION:Private location\, See description to RSVP for address in\, CA
CATEGORIES:Fundraiser,Outside Event
END:VEVENT
BEGIN:VEVENT
DTSTART;TZID=America/Los_Angeles:20240728T150000
DTEND;TZID=America/Los_Angeles:20240728T170000
DTSTAMP:20260422T053452
CREATED:20240715T051502Z
LAST-MODIFIED:20240715T051504Z
UID:10003441-1722178800-1722186000@demvolctr.org
SUMMARY:Garden party for AZ (SD)
DESCRIPTION:Meet Sister District CA Peninsula candidate Karen Gresham\, who is running for Arizona House District 4. Join us for an enchanting afternoon at a private garden in Palo Alto\, featuring delicious hors d’oeuvres\, wine\, live music\, and a silent auction. \n\n\n\nSuggested ticket prices: $50 per person\, or $24.24 for those under 30. Thanks to a generous matching donation\, you can bring a friend for free!
URL:https://demvolctr.org/event/garden-party-for-az-sd/
LOCATION:Private location\, See description to RSVP for address in\, CA
CATEGORIES:Fundraiser,Outside Event
END:VEVENT
BEGIN:VEVENT
DTSTART;TZID=America/Los_Angeles:20240712T190000
DTEND;TZID=America/Los_Angeles:20240712T220000
DTSTAMP:20260422T053452
CREATED:20240701T141104Z
LAST-MODIFIED:20240701T141206Z
UID:10003433-1720810800-1720821600@demvolctr.org
SUMMARY:Tiki party to flip Wisconsin (SD)
DESCRIPTION:Join Sister District CA Peninsula for a fabulous tropical tiki party — Wisconsin style — in support of our Wisconsin candidate\, Kris Alfheim. Kris\, who is running to flip the State Senate blue\, will be joining us IN PERSON! You’ll enjoy tropical cocktails\, luau bites\, BBQ pulled pork sliders (Wisconsin style)\, Wisconsin cheeses\, and ice cream sundaes. \n\n\n\nSuggested donation: $50 per person\, or $20 for those under 30.
URL:https://demvolctr.org/event/tiki-party-to-flip-wisconsin/
LOCATION:Private location\, See description to RSVP for address in\, CA
CATEGORIES:Fundraiser,Outside Event
END:VEVENT
BEGIN:VEVENT
DTSTART;TZID=America/Los_Angeles:20240518T140000
DTEND;TZID=America/Los_Angeles:20240518T160000
DTSTAMP:20260422T053452
CREATED:20240511T172457Z
LAST-MODIFIED:20240511T172458Z
UID:10003350-1716040800-1716048000@demvolctr.org
SUMMARY:Garden party for Brittney Miller (SD)
DESCRIPTION:Join Sister District South Bay for a garden party and silent auction in Los Altos. You’ll meet our first 2024 candidate\, Nevada Assemblywoman Brittney Miller! Author and Palo Alto city council member Julie Lythcott-Haims will introduce her. Brittney will talk about her district in Nevada and the factors at play in this election. \n\n\n\nEnjoy delicious hors d’oeuvres\, desserts\, wine\, and refreshing beverages. The silent auction will offer classes\, game parties\, and stays at vacation homes. The address in Los Altos will be provided after you sign up. \n\n\n\nTicket prices: $50 per person\, or free for those under 30.
URL:https://demvolctr.org/event/garden-party-for-brittney-miller-sd/
LOCATION:Private location\, See description to RSVP for address in\, CA
CATEGORIES:Fundraiser,Outside Event
END:VEVENT
BEGIN:VEVENT
DTSTART;TZID=America/Los_Angeles:20240516T183000
DTEND;TZID=America/Los_Angeles:20240516T203000
DTSTAMP:20260422T053452
CREATED:20240510T150011Z
LAST-MODIFIED:20240510T150012Z
UID:10003330-1715884200-1715891400@demvolctr.org
SUMMARY:Fundraiser for first AZ candidate (SD)
DESCRIPTION:Join Sister District CA Peninsula to meet our first candidate of 2024\, Rep. Judy Schwiebert\, via Zoom. She flipped her Arizona House seat blue in 2020\, and now she’s running to flip the Senate seat. You can attend in person or via Zoom. \n\n\n\nThose who attend in person will enjoy tacos and margaritas at the beautiful San Mateo home of our Sister District leader\, Catherine Grundmann! Beer\, wine\, and non-alcoholic drinks will also be served. \n\n\n\n\n\nSign up to attend online\n\n\n\nSuggested donation: $50 per person\, or $20pp for those under 30. Payment via ActBlue can be made here. If you wish to pay by check\, please email Nancy Bott at nancybott46@gmail.com to arrange payment. \n\n\n\nDonate online
URL:https://demvolctr.org/event/fundraiser-for-first-az-candidate-sd/
LOCATION:Private location\, See description to RSVP for address in\, CA
CATEGORIES:Fundraiser,Outside Event
END:VEVENT
BEGIN:VEVENT
DTSTART;TZID=America/Los_Angeles:20240317T170000
DTEND;TZID=America/Los_Angeles:20240317T183000
DTSTAMP:20260422T053452
CREATED:20240225T183111Z
LAST-MODIFIED:20240225T183111Z
UID:10003297-1710694800-1710700200@demvolctr.org
SUMMARY:Big Blue Bash (SD)
DESCRIPTION:Join local Sister District chapters and their allies\, including the DVC\, for a Big Blue Bash in San Carlos. We’ll celebrate our successes and get energized and inspired for the campaign season ahead. The event will support eight grassroots groups in Michigan\, Wisconsin\, Arizona\, and Pennsylvania. Drinks and snacks will be provided.
URL:https://demvolctr.org/event/big-blue-bash-sd/
LOCATION:Private location\, See description to RSVP for address in\, CA
CATEGORIES:Fundraiser,Outside Event,Party
END:VEVENT
BEGIN:VEVENT
DTSTART;TZID=America/Los_Angeles:20240210T140000
DTEND;TZID=America/Los_Angeles:20240210T160000
DTSTAMP:20260422T053452
CREATED:20240127T151055Z
LAST-MODIFIED:20240127T151055Z
UID:10003274-1707573600-1707580800@demvolctr.org
SUMMARY:Thank You & Welcome party (SD)
DESCRIPTION:Join Sister District South Bay for a party to thank volunteers and welcome new members. Sister District Co-Founder and Senior VP Gaby Goldstein will look back on the 2023 election and update us on the objectives and strategy for 2024.
URL:https://demvolctr.org/event/thank-you-welcome-party-sd/
LOCATION:Private location\, See description to RSVP for address in\, CA
CATEGORIES:Outside Event,Party
END:VEVENT
BEGIN:VEVENT
DTSTART;TZID=America/Los_Angeles:20231019T180000
DTEND;TZID=America/Los_Angeles:20231019T210000
DTSTAMP:20260422T053452
CREATED:20231003T133204Z
LAST-MODIFIED:20231003T133206Z
UID:10003215-1697738400-1697749200@demvolctr.org
SUMMARY:Fundraiser for VA (SD)
DESCRIPTION:Join Sister District CA Peninsula for a festive garden party and celebration in San Mateo. This event is a fundraiser for Russet Perry for Virginia Senate District 31\, a crucial seat that Democrats must win. Mediterranean food and cocktails will be provided\, and there will be a dance party on the patio\, bocce ball\, poker\, and a garden tour.  \n\n\n\nSuggested donation: $50 per person\, or $20 for those under 30. Bring a friend for free!
URL:https://demvolctr.org/event/fundraiser-for-va-sd/
LOCATION:Private location\, See description to RSVP for address in\, CA
CATEGORIES:Fundraiser,Outside Event
END:VEVENT
BEGIN:VEVENT
DTSTART;TZID=America/Los_Angeles:20231014T170000
DTEND;TZID=America/Los_Angeles:20231014T190000
DTSTAMP:20260422T053452
CREATED:20231002T004416Z
LAST-MODIFIED:20231002T004845Z
UID:10003214-1697302800-1697310000@demvolctr.org
SUMMARY:Garden party for VA (SD)
DESCRIPTION:Join Sister District South Bay at an outdoor party and silent auction in Monte Sereno. Supervisor Joe Simitian will talk to us about the importance of state elections\, and Delegate Schuyler VanValkenburg\, who is running for the Virginia State Senate\, will join by Zoom to talk about his critical race. Enjoy premium wines\, hors d’oeuvres\, and desserts. The auction will feature items such as a weekend or week in Silverthorne\, Colorado; a private cellar tour with premium wines; and cooking and craft classes. \n\n\n\nTicket price: $75 per person
URL:https://demvolctr.org/event/garden-party-for-va-sd-2/
LOCATION:Private location\, See description to RSVP for address in\, CA
CATEGORIES:Fundraiser,Outside Event
END:VEVENT
BEGIN:VEVENT
DTSTART;TZID=America/Los_Angeles:20230926T183000
DTEND;TZID=America/Los_Angeles:20230926T200000
DTSTAMP:20260422T053452
CREATED:20230904T173500Z
LAST-MODIFIED:20230904T173501Z
UID:10003195-1695753000-1695758400@demvolctr.org
SUMMARY:Fundraiser for Russet Perry (SD)
DESCRIPTION:Join State Senator Josh Becker and Assemblywoman Diane Papan for a Sister District CA Peninsula event in support of Russet Perry for Virginia Senate District 31. The entire Virginia legislature is up for election in November; currently the state has a Republican governor and House of Delegates and just a slim Dem majority in the Senate. Senator Becker and Assemblywoman Papan will provide an update on the California legislative session and highlight the important role state legislatures play in our democracy.  \n\n\n\nWe’ll gather outdoors at a lovely home in San Mateo. Mediterranean food\, beer\, wine\, and non-alcoholic drinks will be provided.  \n\n\n\n\n\n\nSign up to attend online\n\n\n\n\nSuggested donation per person: $50 in person\, $35 by Zoom\, or $20 for those under 30.  \n\n\n\n\nDonate
URL:https://demvolctr.org/event/fundraiser-for-russet-perry-sd/
LOCATION:Private location\, See description to RSVP for address in\, CA
CATEGORIES:Fundraiser,Outside Event
END:VEVENT
BEGIN:VEVENT
DTSTART;TZID=America/Los_Angeles:20230827T150000
DTEND;TZID=America/Los_Angeles:20230827T170000
DTSTAMP:20260422T053452
CREATED:20230723T204445Z
LAST-MODIFIED:20230723T204445Z
UID:10003190-1693148400-1693155600@demvolctr.org
SUMMARY:Garden party for VA (SD)
DESCRIPTION:Meet Sister District South Bay candidate Susanna Gibson\, who is running for the Virginia House of Delegates\, at a garden party in Palo Alto. Enjoy hors d’oeuvres\, wine\, and an auction featuring items such as a week on the Italian Riviera\, a sailing trip on the bay\, cooking and craft classes. All proceeds will be split between Susanna’s campaign and that of Schuyler VanValkenburg\, who is running for the Virginia Senate. These two races are key to flipping the Virginia House of Delegates and keeping the Virginia Senate blue. \n\n\n\nTicket prices: $50 per person; $20.23 for those under 30. There is a $5000 matching challenge.
URL:https://demvolctr.org/event/garden-party-for-va-sd/
LOCATION:Private location\, See description to RSVP for address in\, CA
CATEGORIES:Fundraiser,Outside Event
END:VEVENT
BEGIN:VEVENT
DTSTART;TZID=America/Los_Angeles:20230718T183000
DTEND;TZID=America/Los_Angeles:20230718T200000
DTSTAMP:20260422T053452
CREATED:20230702T162630Z
LAST-MODIFIED:20230709T212928Z
UID:10003176-1689705000-1689710400@demvolctr.org
SUMMARY:Fundraiser for VA candidates (SD)
DESCRIPTION:Join Sister District CA Peninsula for an evening of al fresco paella in support of our Wave 2 candidates for the Virginia legislature\, Russet Perry and Phil Hernandez. The entire Virginia legislature is up for election in November; currently the state has a Republican governor and House of Delegates and just a slim Democratic majority in the Senate. Our candidates will join us by Zoom at 7:00 pm.  \n\n\n\n\n\n\nRSVP to attend online\n\n\n\n\nSuggested donation per person: $50 in person\, $35 by Zoom\, or $20 for those under 30. \n\n\n\n\nDonate
URL:https://demvolctr.org/event/fundraiser-for-va-candidates-sd/
LOCATION:Private location\, See description to RSVP for address in\, CA
CATEGORIES:Fundraiser,Outside Event
END:VEVENT
BEGIN:VEVENT
DTSTART;TZID=America/Los_Angeles:20230607T183000
DTEND;TZID=America/Los_Angeles:20230607T203000
DTSTAMP:20260422T053452
CREATED:20230529T223134Z
LAST-MODIFIED:20230529T223911Z
UID:10002951-1686162600-1686169800@demvolctr.org
SUMMARY:SD Peninsula: meet Danica Roem
DESCRIPTION:Join Sister District CA Peninsula for their annual Sunset\, Martinis and Silent Auction. Danica Roem is flying out from Virginia just for our event! \n\n\n\nDanica is in a must-win race in order for Democrats to retain control of the Virginia State Senate. We must protect and expand our razor-thin Dem majority in the state Senate to prevent complete GOP control of Virginia and stop their anti-climate agenda\, relentless anti-LGBTQ+ legislation\, and assault on reproductive freedom. \n\n\n\nSpace at the event is limited to 70 people. Suggested donation: $50/$20pp for those under 30. Bring a friend for free! We are grateful for all donations large and small! Every donation will be matched up to $2\,000! Payment via ActBlue here prior to the event is preferred. Donations by check can be made – instructions will be provided to RSVP’s.
URL:https://demvolctr.org/event/sd-peninsula-meet-danica-roem/
LOCATION:Private location\, See description to RSVP for address in\, CA
CATEGORIES:Fundraiser,Outside Event
END:VEVENT
END:VCALENDAR